BEGIN:VCALENDAR
VERSION:2.0
PRODID:-//chikkutakku.com//RDFCal 1.0//EN
X-WR-CALDESC:GoogleカレンダーやiCalendar形式情報を共有シェ
 アしましょう。近所のイベントから全国のイベントま
 で今日のイベント検索やスケジュールを決めるならち
 っくたっく
X-WR-CALNAME:ちっくたっく
X-WR-TIMEZONE:UTC
BEGIN:VEVENT
SUMMARY:自動販売機に生まれ変わった俺は迷宮を彷徨う(3)
  #4 「苦難は続くよどこまでも」
DTSTART;VALUE=DATE-TIME:20260423T140000Z
DTEND;VALUE=DATE-TIME:20260423T143000Z
UID:834128110957
DESCRIPTION:4 / 苦難は続くよどこまでも / 
LOCATION:BS日テレ
END:VEVENT
END:VCALENDAR
