BEGIN:VCALENDAR
VERSION:2.0
PRODID:-//chikkutakku.com//RDFCal 1.0//EN
X-WR-CALDESC:GoogleカレンダーやiCalendar形式情報を共有シェ
 アしましょう。近所のイベントから全国のイベントま
 で今日のイベント検索やスケジュールを決めるならち
 っくたっく
X-WR-CALNAME:ちっくたっく
X-WR-TIMEZONE:UTC
BEGIN:VEVENT
SUMMARY:薬屋のひとりごと　猫猫の調合書
DTSTART;VALUE=DATE:20260512
DTEND;VALUE=DATE:20260513
UID:841563462327
DESCRIPTION:2026-05-13薬屋のひとりごと　猫猫の調合書日向
 夏/真楠 ヨウ主婦の友社
LOCATION:
END:VEVENT
END:VCALENDAR
