BEGIN:VCALENDAR
VERSION:2.0
PRODID:-//chikkutakku.com//RDFCal 1.0//EN
X-WR-CALDESC:GoogleカレンダーやiCalendar形式情報を共有シェ
 アしましょう。近所のイベントから全国のイベントま
 で今日のイベント検索やスケジュールを決めるならち
 っくたっく
X-WR-CALNAME:ちっくたっく
X-WR-TIMEZONE:UTC
BEGIN:VEVENT
SUMMARY:今度こそは溺愛されます！ 転生したらイケオジ
 陛下の幼妻になりました
DTSTART;VALUE=DATE:20260524
DTEND;VALUE=DATE:20260525
UID:841618251636
DESCRIPTION:2026-05-25今度こそは溺愛されます！ 転生したら
 イケオジ陛下の幼妻になりました斉河燈/DUO BRAND．KADOKAW
 A
LOCATION:
END:VEVENT
END:VCALENDAR
