BEGIN:VCALENDAR
VERSION:2.0
PRODID:-//chikkutakku.com//RDFCal 1.0//EN
X-WR-CALDESC:GoogleカレンダーやiCalendar形式情報を共有シェ
 アしましょう。近所のイベントから全国のイベントま
 で今日のイベント検索やスケジュールを決めるならち
 っくたっく
X-WR-CALNAME:ちっくたっく
X-WR-TIMEZONE:UTC
BEGIN:VEVENT
SUMMARY:PHS Football Field Ribbon Cutting
DTSTART;VALUE=DATE-TIME:20260420T233000Z
DTEND;VALUE=DATE-TIME:20260421T003000Z
UID:844135326954
DESCRIPTION:Need 4 long tables setup on track in front of press box\nNeed 
 2 coolers of water\nNeed Microphone setup/Sound System\nNeed 2 extra trash
  cans in same location as track
LOCATION:
END:VEVENT
END:VCALENDAR
