BEGIN:VCALENDAR
VERSION:2.0
PRODID:-//chikkutakku.com//RDFCal 1.0//EN
X-WR-CALDESC:GoogleカレンダーやiCalendar形式情報を共有シェ
 アしましょう。近所のイベントから全国のイベントま
 で今日のイベント検索やスケジュールを決めるならち
 っくたっく
X-WR-CALNAME:ちっくたっく
X-WR-TIMEZONE:UTC
BEGIN:VEVENT
SUMMARY:逆転バリバリバース バリバコイン 第2転〜表裏を
 司る者たち〜〈BOX〉
DTSTART;VALUE=DATE:20260424
DTEND;VALUE=DATE:20260425
UID:847303653596
DESCRIPTION:2026-04-25逆転バリバリバース バリバコイン 第2
 転〜表裏を司る者たち〜〈BOX〉バンダイ
LOCATION:
END:VEVENT
END:VCALENDAR
