BEGIN:VCALENDAR
VERSION:2.0
PRODID:-//chikkutakku.com//RDFCal 1.0//EN
X-WR-CALDESC:GoogleカレンダーやiCalendar形式情報を共有シェ
 アしましょう。近所のイベントから全国のイベントま
 で今日のイベント検索やスケジュールを決めるならち
 っくたっく
X-WR-CALNAME:ちっくたっく
X-WR-TIMEZONE:UTC
BEGIN:VEVENT
SUMMARY:バスケットボール（多摩）CD(Div3/4\,女子）
DTSTART;VALUE=DATE-TIME:20260508T150000Z
DTEND;VALUE=DATE-TIME:20260508T160000Z
UID:849673969515
DESCRIPTION:集合　13:15\n\n13:30-13:40  　説明会\n\n13:40-16:30 
 練習\n\n集合場所　１階待合スペース
LOCATION:東京都パラスポーツセンター
END:VEVENT
END:VCALENDAR
