BEGIN:VCALENDAR
VERSION:2.0
PRODID:-//chikkutakku.com//RDFCal 1.0//EN
X-WR-CALDESC:GoogleカレンダーやiCalendar形式情報を共有シェ
 アしましょう。近所のイベントから全国のイベントま
 で今日のイベント検索やスケジュールを決めるならち
 っくたっく
X-WR-CALNAME:ちっくたっく
X-WR-TIMEZONE:UTC
BEGIN:VEVENT
SUMMARY:第59回和歌山県立桐蔭高等学校
DTSTART;VALUE=DATE-TIME:20260426T080000Z
DTEND;VALUE=DATE-TIME:20260426T100000Z
UID:849760266651
DESCRIPTION:http://cclive.ikora.tv/e1601608.html
LOCATION:和歌山県民文化会館大ホール　　和歌山市小松
 原通一丁目1番地
END:VEVENT
END:VCALENDAR
