BEGIN:VCALENDAR
VERSION:2.0
PRODID:-//chikkutakku.com//RDFCal 1.0//EN
X-WR-CALDESC:GoogleカレンダーやiCalendar形式情報を共有シェ
 アしましょう。近所のイベントから全国のイベントま
 で今日のイベント検索やスケジュールを決めるならち
 っくたっく
X-WR-CALNAME:ちっくたっく
X-WR-TIMEZONE:UTC
BEGIN:VEVENT
SUMMARY:Year 10 Co-requisites: Numeracy
DTSTART;VALUE=DATE-TIME:20260520T013000Z
DTEND;VALUE=DATE-TIME:20260520T031500Z
UID:850140032885
DESCRIPTION:Year 10 Co-requisites: Numeracy
LOCATION:Hall Building-Ground Floor-Assembly Hall (500)
END:VEVENT
END:VCALENDAR
