BEGIN:VCALENDAR
VERSION:2.0
PRODID:-//chikkutakku.com//RDFCal 1.0//EN
X-WR-CALDESC:GoogleカレンダーやiCalendar形式情報を共有シェ
 アしましょう。近所のイベントから全国のイベントま
 で今日のイベント検索やスケジュールを決めるならち
 っくたっく
X-WR-CALNAME:ちっくたっく
X-WR-TIMEZONE:UTC
BEGIN:VEVENT
SUMMARY:【本予約齋藤様】10:00～13:00
DTSTART;VALUE=DATE-TIME:20260424T010000Z
DTEND;VALUE=DATE-TIME:20260424T040000Z
UID:850891206868
DESCRIPTION:【本予約齋藤様】10:00～13:00
LOCATION:
END:VEVENT
END:VCALENDAR
