BEGIN:VCALENDAR
VERSION:2.0
PRODID:-//chikkutakku.com//RDFCal 1.0//EN
X-WR-CALDESC:GoogleカレンダーやiCalendar形式情報を共有シェ
 アしましょう。近所のイベントから全国のイベントま
 で今日のイベント検索やスケジュールを決めるならち
 っくたっく
X-WR-CALNAME:ちっくたっく
X-WR-TIMEZONE:UTC
BEGIN:VEVENT
SUMMARY:Israel 78-Community Yom HaAtzmaut Event
DTSTART;VALUE=DATE-TIME:20260422T233000Z
DTEND;VALUE=DATE-TIME:20260423T023000Z
UID:854996441667
DESCRIPTION:Wear Blue and White!Yavneh 6th and 7th graders will have a fla
 g performance at the event. And the lower school choir is singing. The en
 tire community is invitedStudents who are in the performances are FREE of 
 charge and they get 1 free adult ticket. Register: https://www.jvalley.o
 rg/event/yom-haatzmaut-2026/
LOCATION:
END:VEVENT
END:VCALENDAR
