BEGIN:VCALENDAR
VERSION:2.0
PRODID:-//chikkutakku.com//RDFCal 1.0//EN
X-WR-CALDESC:GoogleカレンダーやiCalendar形式情報を共有シェ
 アしましょう。近所のイベントから全国のイベントま
 で今日のイベント検索やスケジュールを決めるならち
 っくたっく
X-WR-CALNAME:ちっくたっく
X-WR-TIMEZONE:UTC
BEGIN:VEVENT
SUMMARY:負けヒロインですが結婚します〜この中に私の夫
 がいる！？〜（1）
DTSTART;VALUE=DATE:20260423
DTEND;VALUE=DATE:20260424
UID:860142488211
DESCRIPTION:2026-04-24負けヒロインですが結婚します〜この
 中に私の夫がいる！？〜（1）池山田 剛小学館
LOCATION:
END:VEVENT
END:VCALENDAR
