BEGIN:VCALENDAR
VERSION:2.0
PRODID:-//chikkutakku.com//RDFCal 1.0//EN
X-WR-CALDESC:GoogleカレンダーやiCalendar形式情報を共有シェ
 アしましょう。近所のイベントから全国のイベントま
 で今日のイベント検索やスケジュールを決めるならち
 っくたっく
X-WR-CALNAME:ちっくたっく
X-WR-TIMEZONE:UTC
BEGIN:VEVENT
SUMMARY:■休講 介護福祉Ⅰ
DTSTART;VALUE=DATE-TIME:20260422T234000Z
DTEND;VALUE=DATE-TIME:20260423T011000Z
UID:860969771343
DESCRIPTION:(菅野(節)/佐藤千恵) 308
LOCATION:(菅野(節)/佐藤千恵) 308
END:VEVENT
END:VCALENDAR
