BEGIN:VCALENDAR
VERSION:2.0
PRODID:-//chikkutakku.com//RDFCal 1.0//EN
X-WR-CALDESC:GoogleカレンダーやiCalendar形式情報を共有シェ
 アしましょう。近所のイベントから全国のイベントま
 で今日のイベント検索やスケジュールを決めるならち
 っくたっく
X-WR-CALNAME:ちっくたっく
X-WR-TIMEZONE:UTC
BEGIN:VEVENT
SUMMARY:【2nd】リーグ戦（金大G）
DTSTART;VALUE=DATE-TIME:20260426T024000Z
DTEND;VALUE=DATE-TIME:20260426T070000Z
UID:867613567288
DESCRIPTION:11:40　現地集合～会場設営\n12:10　アップ開始\n
 13:10　vs星稜中\n14:30　審判（4th＋A1）\n16:00　現地解散
LOCATION:金沢大学SOLTILO FIELD-B\, 日本、〒920-1164 石川県金
 沢市角間町
END:VEVENT
END:VCALENDAR
