BEGIN:VCALENDAR
VERSION:2.0
PRODID:-//chikkutakku.com//RDFCal 1.0//EN
X-WR-CALDESC:GoogleカレンダーやiCalendar形式情報を共有シェ
 アしましょう。近所のイベントから全国のイベントま
 で今日のイベント検索やスケジュールを決めるならち
 っくたっく
X-WR-CALNAME:ちっくたっく
X-WR-TIMEZONE:UTC
BEGIN:VEVENT
SUMMARY:Ordination anniversaries
DTSTART;VALUE=DATE-TIME:20260522T050000Z
DTEND;VALUE=DATE-TIME:20260523T050000Z
UID:870118832500
DESCRIPTION:The following were ordained to the priesthood on May 22:\n\nFr
 . Greg Murray (2004)
LOCATION:
END:VEVENT
END:VCALENDAR
