BEGIN:VCALENDAR
VERSION:2.0
PRODID:-//chikkutakku.com//RDFCal 1.0//EN
X-WR-CALDESC:GoogleカレンダーやiCalendar形式情報を共有シェ
 アしましょう。近所のイベントから全国のイベントま
 で今日のイベント検索やスケジュールを決めるならち
 っくたっく
X-WR-CALNAME:ちっくたっく
X-WR-TIMEZONE:UTC
BEGIN:VEVENT
SUMMARY:まっぷる 首都圏発 おいしい道の駅ドライブ
DTSTART;VALUE=DATE:20260520
DTEND;VALUE=DATE:20260521
UID:889336988671
DESCRIPTION:2026-05-21まっぷる 首都圏発 おいしい道の駅ド
 ライブ昭文社 旅行ガイドブック 編集部昭文社
LOCATION:
END:VEVENT
END:VCALENDAR
