BEGIN:VCALENDAR
VERSION:2.0
PRODID:-//chikkutakku.com//RDFCal 1.0//EN
X-WR-CALDESC:GoogleカレンダーやiCalendar形式情報を共有シェ
 アしましょう。近所のイベントから全国のイベントま
 で今日のイベント検索やスケジュールを決めるならち
 っくたっく
X-WR-CALNAME:ちっくたっく
X-WR-TIMEZONE:UTC
BEGIN:VEVENT
SUMMARY:115年第1次性騷擾與性別歧視申訴評議委員會會議 
 李揚校長  温茜琳#1121
DTSTART;VALUE=DATE-TIME:20260421T040000Z
DTEND;VALUE=DATE-TIME:20260421T060000Z
UID:898763323772
DESCRIPTION:115年第1次性騷擾與性別歧視申訴評議委員會會
 議 李揚校長  温茜琳#1121
LOCATION:5大
END:VEVENT
END:VCALENDAR
