BEGIN:VCALENDAR
VERSION:2.0
PRODID:-//chikkutakku.com//RDFCal 1.0//EN
X-WR-CALDESC:GoogleカレンダーやiCalendar形式情報を共有シェ
 アしましょう。近所のイベントから全国のイベントま
 で今日のイベント検索やスケジュールを決めるならち
 っくたっく
X-WR-CALNAME:ちっくたっく
X-WR-TIMEZONE:UTC
BEGIN:VEVENT
SUMMARY:(19時)能天記予報～凌天・一記講談勉強会
DTSTART;VALUE=DATE:20260507
DTEND;VALUE=DATE:20260508
UID:908498975176
DESCRIPTION:出演：田辺凌天・田辺一記\n開場：1​8時半　
 開演：19時　\n料金：予約2000円・当日：2300円\nご​予約
 はらくご​カフェまで\nrakugocafe​@hotm​ail.co.jp\n電話03-6
 ​268-9818（​平日​12時～18時まで）
LOCATION:
END:VEVENT
END:VCALENDAR
