BEGIN:VCALENDAR
VERSION:2.0
PRODID:-//chikkutakku.com//RDFCal 1.0//EN
X-WR-CALDESC:GoogleカレンダーやiCalendar形式情報を共有シェ
 アしましょう。近所のイベントから全国のイベントま
 で今日のイベント検索やスケジュールを決めるならち
 っくたっく
X-WR-CALNAME:ちっくたっく
X-WR-TIMEZONE:UTC
BEGIN:VEVENT
SUMMARY:がんばれ！ルルロロ #4 「けいとやさんまでおつ
 かいに」
DTSTART;VALUE=DATE-TIME:20260420T234500Z
DTEND;VALUE=DATE-TIME:20260420T235000Z
UID:925800201234
DESCRIPTION:4 / けいとやさんまでおつかいに / 
LOCATION:NHK Eテレ
END:VEVENT
END:VCALENDAR
