BEGIN:VCALENDAR
VERSION:2.0
PRODID:-//chikkutakku.com//RDFCal 1.0//EN
X-WR-CALDESC:GoogleカレンダーやiCalendar形式情報を共有シェ
 アしましょう。近所のイベントから全国のイベントま
 で今日のイベント検索やスケジュールを決めるならち
 っくたっく
X-WR-CALNAME:ちっくたっく
X-WR-TIMEZONE:UTC
BEGIN:VEVENT
SUMMARY:聖女の妹の尻拭いを仰せつかった、ただの侍女で
 ございます 〜謝罪先の獣人国で何故か黒狼陛下に求愛
 されました！？〜（4）
DTSTART;VALUE=DATE:20260512
DTEND;VALUE=DATE:20260513
UID:939050662995
DESCRIPTION:2026-05-13聖女の妹の尻拭いを仰せつかった、た
 だの侍女でございます 〜謝罪先の獣人国で何故か黒狼
 陛下に求愛されました！？〜（4）日野原/櫻田りん/氷
 堂れん株式会社アース・スター エンターテイメント
LOCATION:
END:VEVENT
END:VCALENDAR
