BEGIN:VCALENDAR
VERSION:2.0
PRODID:-//chikkutakku.com//RDFCal 1.0//EN
X-WR-CALDESC:GoogleカレンダーやiCalendar形式情報を共有シェ
 アしましょう。近所のイベントから全国のイベントま
 で今日のイベント検索やスケジュールを決めるならち
 っくたっく
X-WR-CALNAME:ちっくたっく
X-WR-TIMEZONE:UTC
BEGIN:VEVENT
SUMMARY:おねがいアイプリ #4 「おともだちがアイプリ!?」
DTSTART;VALUE=DATE-TIME:20260426T003000Z
DTEND;VALUE=DATE-TIME:20260426T010000Z
UID:942595724936
DESCRIPTION:4 / おともだちがアイプリ!? / 
LOCATION:テレビ東京
END:VEVENT
END:VCALENDAR
