BEGIN:VCALENDAR
VERSION:2.0
PRODID:-//chikkutakku.com//RDFCal 1.0//EN
X-WR-CALDESC:GoogleカレンダーやiCalendar形式情報を共有シェ
 アしましょう。近所のイベントから全国のイベントま
 で今日のイベント検索やスケジュールを決めるならち
 っくたっく
X-WR-CALNAME:ちっくたっく
X-WR-TIMEZONE:UTC
BEGIN:VEVENT
SUMMARY:Summer Volunteer Orientation Session
DTSTART;VALUE=DATE-TIME:20260424T180000Z
DTEND;VALUE=DATE-TIME:20260424T190000Z
UID:945671292077
DESCRIPTION:Interested in learning more about being a summer volunteer wit
 h ASA? Stop by the JCTS\, our summer office location at 463 Turner Drive #
 105 Durango\, CO\,  from 12PM-1PM to learn all about summer volunteer opp
 ortunities! No commitment or RSVP required. Contact program@asadurango.com
  or 970-259-0374for more information.
LOCATION:
END:VEVENT
END:VCALENDAR
