BEGIN:VCALENDAR
VERSION:2.0
PRODID:-//chikkutakku.com//RDFCal 1.0//EN
X-WR-CALDESC:GoogleカレンダーやiCalendar形式情報を共有シェ
 アしましょう。近所のイベントから全国のイベントま
 で今日のイベント検索やスケジュールを決めるならち
 っくたっく
X-WR-CALNAME:ちっくたっく
X-WR-TIMEZONE:UTC
BEGIN:VEVENT
SUMMARY:【注】名探偵コナン #955 昆虫人間のヒミツ / #956 
 謎解き水上バス(前編) / #957 謎解き水上バス(後編) / #958 
 プードルと散弾銃(前編) / #959 プードルと散弾銃(後編) /
  #960 未亡人(ミズロンリー)と探偵団 / #961 グランピング
 怪事件 / #962 毛利小五郎大講演会(前編) / #963 毛利小五
 郎大講演会(中編) / #964 毛利小五郎大講演会(後編)
DTSTART;VALUE=DATE-TIME:20260422T093000Z
DTEND;VALUE=DATE-TIME:20260422T143000Z
UID:950673247122
DESCRIPTION: / #955 昆虫人間のヒミツ / #956 謎解き水上バス(
 前編) / #957 謎解き水上バス(後編) / #958 プードルと散弾
 銃(前編) / #959 プードルと散弾銃(後編) / #960 未亡人(ミ
 ズロンリー)と探偵団 / #961 グランピング怪事件 / #962 毛
 利小五郎大講演会(前編) / #963 毛利小五郎大講演会(中編
 ) / #964 毛利小五郎大講演会(後編) / ([[名探偵コナンチャ
 ンネル https://abema.tv/timetable/channels/conan]]) https://abema.tv/ch
 annels/conan/slots/AkN7aeGHES5uJ7 リピート放送は 26:30～ https://a
 bema.tv/channels/conan/slots/Ah77mi66r2n8RV 、4/23(木) 10:30～ https://
 abema.tv/channels/conan/slots/Ah77p8vpJkjSwZ (無料TS1週間) https://prt
 imes.jp/main/html/rd/p/000002640.000064643.html
LOCATION:ABEMA特設その他
END:VEVENT
END:VCALENDAR
