BEGIN:VCALENDAR
VERSION:2.0
PRODID:-//chikkutakku.com//RDFCal 1.0//EN
X-WR-CALDESC:GoogleカレンダーやiCalendar形式情報を共有シェ
 アしましょう。近所のイベントから全国のイベントま
 で今日のイベント検索やスケジュールを決めるならち
 っくたっく
X-WR-CALNAME:ちっくたっく
X-WR-TIMEZONE:UTC
BEGIN:VEVENT
SUMMARY:Antigua to Bermuda Race (RBYC)
DTSTART;VALUE=DATE:20260429
DTEND;VALUE=DATE:20260508
UID:950787330603
DESCRIPTION:Contact: P/C P. Les Crane info@antiguabermuda.com Website
LOCATION:Royal Bermuda Yacht Club\, 15 Point Pleasant Road\, Hamilton\, Be
 rmuda
END:VEVENT
END:VCALENDAR
