BEGIN:VCALENDAR
VERSION:2.0
PRODID:-//chikkutakku.com//RDFCal 1.0//EN
X-WR-CALDESC:GoogleカレンダーやiCalendar形式情報を共有シェ
 アしましょう。近所のイベントから全国のイベントま
 で今日のイベント検索やスケジュールを決めるならち
 っくたっく
X-WR-CALNAME:ちっくたっく
X-WR-TIMEZONE:UTC
BEGIN:VEVENT
SUMMARY:Laura \,Conference Room #2\, 10-11:20 am
DTSTART;VALUE=DATE:20260421
DTEND;VALUE=DATE:20260422
UID:952064697982
DESCRIPTION:Laura \,Conference Room #2\, 10-11:20 am
LOCATION:
END:VEVENT
END:VCALENDAR
