BEGIN:VCALENDAR
VERSION:2.0
PRODID:-//chikkutakku.com//RDFCal 1.0//EN
X-WR-CALDESC:GoogleカレンダーやiCalendar形式情報を共有シェ
 アしましょう。近所のイベントから全国のイベントま
 で今日のイベント検索やスケジュールを決めるならち
 っくたっく
X-WR-CALNAME:ちっくたっく
X-WR-TIMEZONE:UTC
BEGIN:VEVENT
SUMMARY:社会福祉士国試対策過去問題集2027【専門科目編
 】
DTSTART;VALUE=DATE:20260426
DTEND;VALUE=DATE:20260427
UID:955462829594
DESCRIPTION:2026-04-27社会福祉士国試対策過去問題集2027【専
 門科目編】福祉教育カレッジエムスリーエデュケーシ
 ョン
LOCATION:
END:VEVENT
END:VCALENDAR
