BEGIN:VCALENDAR
VERSION:2.0
PRODID:-//chikkutakku.com//RDFCal 1.0//EN
X-WR-CALDESC:GoogleカレンダーやiCalendar形式情報を共有シェ
 アしましょう。近所のイベントから全国のイベントま
 で今日のイベント検索やスケジュールを決めるならち
 っくたっく
X-WR-CALNAME:ちっくたっく
X-WR-TIMEZONE:UTC
BEGIN:VEVENT
SUMMARY:ประชุมคณะทำงาน reinventing 
DTSTART;VALUE=DATE-TIME:20260421T063000Z
DTEND;VALUE=DATE-TIME:20260421T093000Z
UID:958729281443
DESCRIPTION:\nงานการเจ้าหน้าที่และ
 นิติการ จัดประชุม\n\nผู้เข้า
 ร่วม 9 คน
LOCATION:
END:VEVENT
END:VCALENDAR
