BEGIN:VCALENDAR
VERSION:2.0
PRODID:-//chikkutakku.com//RDFCal 1.0//EN
X-WR-CALDESC:GoogleカレンダーやiCalendar形式情報を共有シェ
 アしましょう。近所のイベントから全国のイベントま
 で今日のイベント検索やスケジュールを決めるならち
 っくたっく
X-WR-CALNAME:ちっくたっく
X-WR-TIMEZONE:UTC
BEGIN:VEVENT
SUMMARY:いぬいぬのドッグラン!! ～いぬいぬ集会～ 第16回
DTSTART;VALUE=DATE-TIME:20260425T140000Z
DTEND;VALUE=DATE-TIME:20260425T145900Z
UID:959647020162
DESCRIPTION:【イベント主催者】\n　よし227\n【イベント内
 容】\n　いぬいぬが好きな方集合！\nメインアバターや
 サブアバターで使っている人はもちろん\n\n昔使ってい
 た人やビジター時代から使ってたけど\n「改変が難しい
 」と人型アバターを使っている人\n今の技術力で再度改
 変に挑戦しましょう！！\n\n気になっている人！無料ア
 バターなので、初めてのアバターに！\nサンプルも用意
 します。\n\n【イベントジャンル】\n　アバター試着会\,
  改変アバター交流会\n【参加条件（モデル、人数制限
 など）】\n　・いぬいぬを愛用している人！\n・いぬい
 ぬが気になる人！\n・いぬいぬを愛でたい人！\n・作者
 さんに胸張って紹介できるアバターであること！\n【参
 加方法】\n　グループにご参加いただき、お時間になり
 ましたらGroupへJoin\n\nグループ検索で”いぬいぬのドッ
 グラン！”もしくは、”INURUN.8796”で検索していただく
 か \nhttps://vrc.group/INURUN.8796　でWebからご参加いただけれ
 ばと思います。 \n【備考】\n　
LOCATION:
END:VEVENT
END:VCALENDAR
