BEGIN:VCALENDAR
VERSION:2.0
PRODID:-//chikkutakku.com//RDFCal 1.0//EN
X-WR-CALDESC:GoogleカレンダーやiCalendar形式情報を共有シェ
 アしましょう。近所のイベントから全国のイベントま
 で今日のイベント検索やスケジュールを決めるならち
 っくたっく
X-WR-CALNAME:ちっくたっく
X-WR-TIMEZONE:UTC
BEGIN:VEVENT
SUMMARY:[rp aid=5986528 to=259237447-2098697089377906688]鈴木大介さ
 ん\n入社日は賃金台帳で確認ができました。\n木村さん
 についてはサービス管理責任者実践研修、更新研修（
 受講していれば）の修了証の社員orPDFでください。\n\n
 鈴木さんのサビ管理研修は基礎研修の受講は終了して
 いますか？\n\n明日で大丈夫です。\n申請様式が4月から
 変わり今書類の作成をし直しているので作成している
 中でお伺いしたいことがあれば随時流していきますが
 、すべて明日で大丈夫です。
DTSTART;VALUE=DATE-TIME:20260423T023000Z
DTEND;VALUE=DATE-TIME:20260423T033000Z
UID:965078722810
DESCRIPTION:[rp aid=5986528 to=259237447-2098697089377906688]鈴木大介
 さん\n入社日は賃金台帳で確認ができました。\n木村さ
 んについてはサービス管理責任者実践研修、更新研修
 （受講していれば）の修了証の社員orPDFでください。\n\
 n鈴木さんのサビ管理研修は基礎研修の受講は終了して
 いますか？\n\n明日で大丈夫です。\n申請様式が4月から
 変わり今書類の作成をし直しているので作成している
 中でお伺いしたいことがあれば随時流していきますが
 、すべて明日で大丈夫です。
LOCATION:
END:VEVENT
END:VCALENDAR
