BEGIN:VCALENDAR
VERSION:2.0
PRODID:-//chikkutakku.com//RDFCal 1.0//EN
X-WR-CALDESC:GoogleカレンダーやiCalendar形式情報を共有シェ
 アしましょう。近所のイベントから全国のイベントま
 で今日のイベント検索やスケジュールを決めるならち
 っくたっく
X-WR-CALNAME:ちっくたっく
X-WR-TIMEZONE:UTC
BEGIN:VEVENT
SUMMARY:【マイクラ人狼】に興味がある人お探ししてます
 【Java版】
DTSTART;VALUE=DATE-TIME:20260421T120000Z
DTEND;VALUE=DATE-TIME:20260421T123000Z
UID:967861495503
DESCRIPTION:【イベント主催者】\n　りぃふぃ\n【イベント
 内容】\n　「Java版マイクラ 人狼RPG」を開催するため\n
 参加者を募集しているイベントです。\n現在３カ月ほど
 開催しております。\n興味がある方、お気軽にご参加く
 ださい！\n【イベントジャンル】\n　その他交流会\, 定
 期イベント\n【参加条件（モデル、人数制限など）】\n
 　誰でも歓迎です。\n【参加方法】\n　「りぃふぃ」に
 フレンド申請後、イベント開催時刻に「りぃふぃ」にjo
 inしてください。\n\nまたは、グループ(りぃふぃのマイ
 クラ人狼)からの参加も可能です。\nLXMINE.6337 に加入後
 、グループ＋インスタンスにjoinしてください。\n【備
 考】\n　マイクラ人狼未経験でも問題ありません！\n\n
 イベントが終わり次第、実際に開催する予定です。\n今
 日は参加できない！というお方でも構いません。
LOCATION:
END:VEVENT
END:VCALENDAR
