BEGIN:VCALENDAR
VERSION:2.0
PRODID:-//chikkutakku.com//RDFCal 1.0//EN
X-WR-CALDESC:GoogleカレンダーやiCalendar形式情報を共有シェ
 アしましょう。近所のイベントから全国のイベントま
 で今日のイベント検索やスケジュールを決めるならち
 っくたっく
X-WR-CALNAME:ちっくたっく
X-WR-TIMEZONE:UTC
BEGIN:VEVENT
SUMMARY:懐かCM会(VRCインターネット老人会)
DTSTART;VALUE=DATE-TIME:20260421T133000Z
DTEND;VALUE=DATE-TIME:20260421T143000Z
UID:968003371290
DESCRIPTION:【イベント主催者】\n　mappy(まっぴぃ)\n【イベ
 ント内容】\n　主に平成の懐かしいCMを皆で鑑賞しなが
 ら雑談するイベントです。\nその日の視聴内容は基本当
 日決めます。\nおじさん達の当時語りを聞いたり若者の
 何気ない「初めて見た」等の一言に心をグサッと刺さ
 れたりとそんな感じのイベントです。\n【イベントジャ
 ンル】\n　その他交流会\, 初心者向けイベント\, 定期イ
 ベント\n【参加条件（モデル、人数制限など）】\n　年
 齢経験不問。動画を視聴する関係で身長の高いアバタ
 ーはスケールを変えてください。\n【参加方法】\n　主
 催orVRCインターネット老人会のグループパブリックにJOI
 Nしてね\n【備考】\n　今回は第99回。\n\n100回に向けた写
 真展示会用写真だいぶ集まってきました。\nまだまだ募
 集中なのでぜひご参加ください。\n募集内容は以下の通
 り(DMorグループのディスコードで写真を投稿)\n①「自慢
 のグッズ」\n各自の持っている(平成を感じる)グッズ(ほ
 んとに何でもok)\n②「自慢の部屋」\nコレクションを写
 真に収め送ってください\n(例/棚1枠とか机の上とかでも
 可、年代不問)\n③「街で見かけた平成」\n平成を感じる
 風景を見つけたら撮影して送ってください\n(例/PHSの販
 売看板のある廃墟ケータイショップ)\n④「なぜそんな
 ものが現存してるんだってもの」\n普通なら現存して無
 さそうな\nなぜか持っている物の写真を送ってください
 \n(例/平成内に賞味期限が切れた牛乳)
LOCATION:
END:VEVENT
END:VCALENDAR
