BEGIN:VCALENDAR
VERSION:2.0
PRODID:-//chikkutakku.com//RDFCal 1.0//EN
X-WR-CALDESC:GoogleカレンダーやiCalendar形式情報を共有シェ
 アしましょう。近所のイベントから全国のイベントま
 で今日のイベント検索やスケジュールを決めるならち
 っくたっく
X-WR-CALNAME:ちっくたっく
X-WR-TIMEZONE:UTC
BEGIN:VEVENT
SUMMARY:【学園型イベント】 VRCAcademy『金の経済学』
DTSTART;VALUE=DATE-TIME:20260425T130000Z
DTEND;VALUE=DATE-TIME:20260425T140000Z
UID:969399104204
DESCRIPTION:【イベント主催者】\n　VRCAcademy/政経たん先生\
 n【イベント内容】\n　【イベント内容】\n一人ひとりの
 挑戦と成長を支える、学びと交流の学園型イベント『VR
 CAcademy』！\n\n2026年4月18日（土）〜5月1日（金）にて\n『
 第5期 講義集中期間』を開講中！\n\n得意分野を伸ばし
 たい方、次のステップに挑戦したい方、\nVRChatでの活動
 を始めたい方へ。\nVRCAcademyでは、志を同じくする仲間
 と出会い、\n講義を通して“将来の進路を見つけるきっ
 かけ”を提供する学園型イベントです。\n\n本講義では
 、政経たん先生による『金の経済学』を実施！\n経済学
 に興味ある人必見！\n金という鉱物を通して、経済学を
 考えを解説します！\n\nどなたでもご参加いただけます
 ！\n【イベントジャンル】\n　その他交流会\n【参加条
 件（モデル、人数制限など）】\n　・入学申し込み／抽
 選／出席条件すべて不要！どなたでも参加OK！\n・イン
 スタンス上限：40名（満員の場合は参加不可）\n・軽量
 アバター（0ポリ／Poor以下）への変更をお願いする場合
 があります\n\n【禁止事項】\n・VRChat規約に反するアバ
 ターの使用\n・爆音／視界ジャックなど迷惑行為\n・差
 別／セクハラ／誹謗中傷などの行為\n・無許可での録音
 ・録画（※撮影は講義ごとのルールに準拠）\n【参加方
 法】\n　① グループ『【公式】VRCAcademy（ID：VRCAO.5583）
 』に参加\nhttps://vrc.group/VRCAO.5583\n\n② 当日、Group＋イン
 スタンスにJoin\n【備考】\n　詳細は公式Xをご確認くだ
 さい！\n公式X：https://x.com/VRC_Academy\nhttps://x.com/VRC_Academy/
 status/2038904839753863376?s=20
LOCATION:
END:VEVENT
END:VCALENDAR
