BEGIN:VCALENDAR
VERSION:2.0
PRODID:-//chikkutakku.com//RDFCal 1.0//EN
X-WR-CALDESC:GoogleカレンダーやiCalendar形式情報を共有シェ
 アしましょう。近所のイベントから全国のイベントま
 で今日のイベント検索やスケジュールを決めるならち
 っくたっく
X-WR-CALNAME:ちっくたっく
X-WR-TIMEZONE:UTC
BEGIN:VEVENT
SUMMARY:17:003MEN
DTSTART;VALUE=DATE:20260424
DTEND;VALUE=DATE:20260425
UID:970857240128
DESCRIPTION:場所\nミント神戸2Fデッキ\n\n\n■開催日時（集
 合時刻）\n2026年4月25日(土曜日)\n集合時間：16:40\n集合場
 所：イベントスペース前\n開演時間：17:00〜\n\n\n■出演\
 n3MEN\n\n\n■イベント内容\nミニライブ＆特典会
LOCATION:
END:VEVENT
END:VCALENDAR
