BEGIN:VCALENDAR
VERSION:2.0
PRODID:-//chikkutakku.com//RDFCal 1.0//EN
X-WR-CALDESC:GoogleカレンダーやiCalendar形式情報を共有シェ
 アしましょう。近所のイベントから全国のイベントま
 で今日のイベント検索やスケジュールを決めるならち
 っくたっく
X-WR-CALNAME:ちっくたっく
X-WR-TIMEZONE:UTC
BEGIN:VEVENT
SUMMARY:【Android 対応】Game World Random Matching
DTSTART;VALUE=DATE-TIME:20260428T130000Z
DTEND;VALUE=DATE-TIME:20260428T140000Z
UID:973076552730
DESCRIPTION:【イベント主催者】\n　Dpsoba\n【イベント内容
 】\n　ゲームワールドを楽しむことができるグループGam
 eworld Random Matching(GRM)の初心者向け交流会を行います。\n
 前半はGRMの説明会を行い、説明が終わり次第実際にゲ
 ームワールドへ行って遊んでみます。\n【イベントジャ
 ンル】\n　その他交流会\, 初心者向けイベント\n【参加
 条件（モデル、人数制限など）】\n　特になし。\n【参
 加方法】\n　GRM(https://vrc.group/GRM.6081)に参加し、グルー
 プパブリックインスタンスにJoin\n【備考】\n　
LOCATION:
END:VEVENT
END:VCALENDAR
