BEGIN:VCALENDAR
VERSION:2.0
PRODID:-//chikkutakku.com//RDFCal 1.0//EN
X-WR-CALDESC:GoogleカレンダーやiCalendar形式情報を共有シェ
 アしましょう。近所のイベントから全国のイベントま
 で今日のイベント検索やスケジュールを決めるならち
 っくたっく
X-WR-CALNAME:ちっくたっく
X-WR-TIMEZONE:UTC
BEGIN:VEVENT
SUMMARY:スナック・またたび
DTSTART;VALUE=DATE-TIME:20260425T132500Z
DTEND;VALUE=DATE-TIME:20260425T143000Z
UID:975638208797
DESCRIPTION:【イベント主催者】\n　ロコ・モコ\n【イベン
 ト内容】\n　【オネエケモノBAR狼娘】さんとの\n スペシ
 ャルコラボになります！！\nフラッと遊びに来てくださ
 いね！！\n【イベントジャンル】\n　その他交流会\, VR
 飲み会\, 定期イベント\n【参加条件（モデル、人数制限
 など）】\n　公序良俗など規約に反する行為\nお客様に
 迷惑になるアバター・版権アバターの使用\n過度なパー
 ティクルや視界ジャック等の迷惑行為\nアバターサイズ
 ４０ＭＢ以下\n他、店外にある注意事項をお読みになっ
 てから入店をよろしくお願いいたします。 \n【参加方
 法】\n　グループ＋にて行います。参加希望の方は事前
 加入お願いいたします。\nvrc.group/MTTB22.0202\n22:25よりJoin
 可能です。\n【備考】\n　詳細は店舗公式X(https://x.com/mat
 atabi_0801）\nにて情報発信中！フォローよろしくお願い
 します！ 
LOCATION:
END:VEVENT
END:VCALENDAR
