BEGIN:VCALENDAR
VERSION:2.0
PRODID:-//chikkutakku.com//RDFCal 1.0//EN
X-WR-CALDESC:GoogleカレンダーやiCalendar形式情報を共有シェ
 アしましょう。近所のイベントから全国のイベントま
 で今日のイベント検索やスケジュールを決めるならち
 っくたっく
X-WR-CALNAME:ちっくたっく
X-WR-TIMEZONE:UTC
BEGIN:VEVENT
SUMMARY:令嬢ですもの、やられたからにはやり返しますわ
 ！ アンソロジーコミック
DTSTART;VALUE=DATE:20260507
DTEND;VALUE=DATE:20260508
UID:979528990079
DESCRIPTION:2026-05-08令嬢ですもの、やられたからにはやり
 返しますわ！ アンソロジーコミック玄米/盛乃ブナ/ぽ
 んぽこ狸/ナカバトモアキ/エタメタノール/卵野うずら/
 雅せんす/狐面イエリ/岩上翠/丸井ばさし/蒼黒せいブシ
 ロードワークス
LOCATION:
END:VEVENT
END:VCALENDAR
