BEGIN:VCALENDAR
VERSION:2.0
PRODID:-//chikkutakku.com//RDFCal 1.0//EN
X-WR-CALDESC:GoogleカレンダーやiCalendar形式情報を共有シェ
 アしましょう。近所のイベントから全国のイベントま
 で今日のイベント検索やスケジュールを決めるならち
 っくたっく
X-WR-CALNAME:ちっくたっく
X-WR-TIMEZONE:UTC
BEGIN:VEVENT
SUMMARY:South African Mathematics Olympiad Round 2
DTSTART;VALUE=DATE-TIME:20260514T120000Z
DTEND;VALUE=DATE-TIME:20260514T140000Z
UID:981610378003
DESCRIPTION:South African Mathematics Olympiad Round 2
LOCATION:Hofmeyr Hall\, Main Hall
END:VEVENT
END:VCALENDAR
