BEGIN:VCALENDAR
VERSION:2.0
PRODID:-//chikkutakku.com//RDFCal 1.0//EN
X-WR-CALDESC:GoogleカレンダーやiCalendar形式情報を共有シェ
 アしましょう。近所のイベントから全国のイベントま
 で今日のイベント検索やスケジュールを決めるならち
 っくたっく
X-WR-CALNAME:ちっくたっく
X-WR-TIMEZONE:UTC
BEGIN:VEVENT
SUMMARY:Mor Barsawmo of Kfartooth
DTSTART;VALUE=DATE-TIME:20260521T060000Z
DTEND;VALUE=DATE-TIME:20260522T060000Z
UID:992402701714
DESCRIPTION:St. Barsauma the bishop of Kafartut and Khabur.\n\nFirst bisho
 p of the Episcopal See of Kafr Tut.\n\nMartyred in late 4th or early 5th c
 entury in the Hashri Monastery. (History of the Za'faran Monastery page 14
 )\n\nThere is a monastery of Mar Barsoum of Kfar Tut in the village of Man
 im'im.\n\nRemembered annually on the Thursday before Pentecost (per 'The S
 piritual Treasure on Canonical Prayer')
LOCATION:
END:VEVENT
END:VCALENDAR
