BEGIN:VCALENDAR
VERSION:2.0
PRODID:-//chikkutakku.com//RDFCal 1.0//EN
X-WR-CALDESC:GoogleカレンダーやiCalendar形式情報を共有シェ
 アしましょう。近所のイベントから全国のイベントま
 で今日のイベント検索やスケジュールを決めるならち
 っくたっく
X-WR-CALNAME:ちっくたっく
X-WR-TIMEZONE:UTC
BEGIN:VEVENT
SUMMARY:LittleMuzos Band Workshop
DTSTART;VALUE=DATE:20260419
DTEND;VALUE=DATE:20260420
UID:319705307008
DESCRIPTION:LittleMuzos Band Workshop
LOCATION:St Peter's Primary School\, Ocean Dr\, Port Macquarie NSW 2444\, 
 Australia
END:VEVENT
BEGIN:VEVENT
SUMMARY:Staff Mission Day (Pupil Free)
DTSTART;VALUE=DATE:20260419
DTEND;VALUE=DATE:20260420
UID:644542762137
DESCRIPTION:Staff Mission Day (Pupil Free)
LOCATION:
END:VEVENT
BEGIN:VEVENT
SUMMARY:First day of classes for Term 2
DTSTART;VALUE=DATE:20260420
DTEND;VALUE=DATE:20260421
UID:808167850874
DESCRIPTION:First day of classes for Term 2
LOCATION:
END:VEVENT
BEGIN:VEVENT
SUMMARY:Zone Rugby Union Trials (selected students)
DTSTART;VALUE=DATE:20260422
DTEND;VALUE=DATE:20260423
UID:117830293302
DESCRIPTION:Zone Rugby Union Trials (selected students)
LOCATION:Verge Street\, Verge St\, Kempsey NSW 2440\, Australia
END:VEVENT
BEGIN:VEVENT
SUMMARY:Prayer Assembly - SRC hosting
DTSTART;VALUE=DATE-TIME:20260424T042000Z
DTEND;VALUE=DATE-TIME:20260424T045000Z
UID:333785172743
DESCRIPTION:Prayer Assembly - SRC hosting
LOCATION:
END:VEVENT
BEGIN:VEVENT
SUMMARY:ANZAC Day
DTSTART;VALUE=DATE:20260424
DTEND;VALUE=DATE:20260425
UID:165985838296
DESCRIPTION:ANZAC Day
LOCATION:
END:VEVENT
BEGIN:VEVENT
SUMMARY:Term 2 Week 2
DTSTART;VALUE=DATE:20260425
DTEND;VALUE=DATE:20260426
UID:639970321922
DESCRIPTION:Term 2 Week 2
LOCATION:
END:VEVENT
BEGIN:VEVENT
SUMMARY:ANZAC Day (public holiday)
DTSTART;VALUE=DATE:20260426
DTEND;VALUE=DATE:20260427
UID:114503946931
DESCRIPTION:ANZAC Day (public holiday)
LOCATION:
END:VEVENT
BEGIN:VEVENT
SUMMARY:PCG meeting - ALL WELCOME (Mother's Day planning)
DTSTART;VALUE=DATE-TIME:20260429T070000Z
DTEND;VALUE=DATE-TIME:20260429T080000Z
UID:608893553709
DESCRIPTION:PCG meeting - ALL WELCOME (Mother's Day planning)
LOCATION:St Joseph’s Primary\, 195 Warlters St\, Port Macquarie NSW 2444
 \, Australia
END:VEVENT
BEGIN:VEVENT
SUMMARY:Zone Cross Country (selected students)
DTSTART;VALUE=DATE:20260428
DTEND;VALUE=DATE:20260429
UID:133478443982
DESCRIPTION:Zone Cross Country (selected students)
LOCATION:Kempsey NSW 2440\, Australia
END:VEVENT
BEGIN:VEVENT
SUMMARY:Prayer Assembly - Year 4 hosting
DTSTART;VALUE=DATE-TIME:20260501T042000Z
DTEND;VALUE=DATE-TIME:20260501T045000Z
UID:110850390366
DESCRIPTION:Prayer Assembly - Year 4 hosting
LOCATION:
END:VEVENT
BEGIN:VEVENT
SUMMARY:St Joseph the Worker
DTSTART;VALUE=DATE-TIME:20260430T140000Z
DTEND;VALUE=DATE-TIME:20260501T140000Z
UID:312516970985
DESCRIPTION:St Joseph the Worker
LOCATION:
END:VEVENT
BEGIN:VEVENT
SUMMARY:Polding Winter Sport Trials - Soccer\, Rugby League\, Hockey and N
 etball (selected students)
DTSTART;VALUE=DATE:20260430
DTEND;VALUE=DATE:20260501
UID:146435274687
DESCRIPTION:Polding Winter Sport Trials - Soccer\, Rugby League\, Hockey a
 nd Netball (selected students)
LOCATION:Bathurst NSW 2795\, Australia
END:VEVENT
BEGIN:VEVENT
SUMMARY:Term 2 Week 3
DTSTART;VALUE=DATE:20260502
DTEND;VALUE=DATE:20260503
UID:162550095084
DESCRIPTION:Term 2 Week 3
LOCATION:
END:VEVENT
BEGIN:VEVENT
SUMMARY:Parent Information Session - How do we teach Mathematics
DTSTART;VALUE=DATE-TIME:20260505T221500Z
DTEND;VALUE=DATE-TIME:20260505T224500Z
UID:316584807964
DESCRIPTION:Parent Information Session - How do we teach Mathematics
LOCATION:St Joseph’s Primary\, 195 Warlters St\, Port Macquarie NSW 2444
 \, Australia
END:VEVENT
BEGIN:VEVENT
SUMMARY:Parent Information Session - How do we teach Mathematics
DTSTART;VALUE=DATE-TIME:20260506T043000Z
DTEND;VALUE=DATE-TIME:20260506T050000Z
UID:132168315447
DESCRIPTION:Parent Information Session - How do we teach Mathematics
LOCATION:St Joseph’s Primary\, 195 Warlters St\, Port Macquarie NSW 2444
 \, Australia
END:VEVENT
BEGIN:VEVENT
SUMMARY:Mother's Day celebrations
DTSTART;VALUE=DATE-TIME:20260507T214500Z
DTEND;VALUE=DATE-TIME:20260508T000000Z
UID:150124301406
DESCRIPTION:+Band Performance contact Amanda
LOCATION:
END:VEVENT
BEGIN:VEVENT
SUMMARY:Term 2 Week 4
DTSTART;VALUE=DATE:20260509
DTEND;VALUE=DATE:20260510
UID:196459403557
DESCRIPTION:Term 2 Week 4
LOCATION:
END:VEVENT
BEGIN:VEVENT
SUMMARY:Mother's Day
DTSTART;VALUE=DATE:20260509
DTEND;VALUE=DATE:20260510
UID:566173799482
DESCRIPTION:Mother's Day
LOCATION:
END:VEVENT
BEGIN:VEVENT
SUMMARY:Diocesan Cross Country (selected students)
DTSTART;VALUE=DATE:20260511
DTEND;VALUE=DATE:20260512
UID:304543187015
DESCRIPTION:Diocesan Cross Country (selected students)
LOCATION:Woolgoolga NSW 2456\, Australia
END:VEVENT
BEGIN:VEVENT
SUMMARY:GLOW Retreat (Year 6)
DTSTART;VALUE=DATE:20260512
DTEND;VALUE=DATE:20260513
UID:156544124115
DESCRIPTION:GLOW Retreat (Year 6)
LOCATION:St Joseph's Regional College\, 1 College Dr\, Port Macquarie NSW 
 2444\, Australia
END:VEVENT
BEGIN:VEVENT
SUMMARY:Polding Summer Sports Trials - Softball (selected students)
DTSTART;VALUE=DATE:20260512
DTEND;VALUE=DATE:20260513
UID:138332397453
DESCRIPTION:Polding Summer Sports Trials - Softball (selected students)
LOCATION:Blacktown International Sportspark Baseball Centre\, Gate A\, Eas
 tern Rd\, Rooty Hill NSW 2766\, Australia
END:VEVENT
BEGIN:VEVENT
SUMMARY:Prayer Assembly - Year 2 hosting
DTSTART;VALUE=DATE-TIME:20260515T042000Z
DTEND;VALUE=DATE-TIME:20260515T045000Z
UID:331491142265
DESCRIPTION:Prayer Assembly - Year 2 hosting
LOCATION:
END:VEVENT
BEGIN:VEVENT
SUMMARY:INTERNATIONAL DAY OF FAMILIES
DTSTART;VALUE=DATE-TIME:20260514T140000Z
DTEND;VALUE=DATE-TIME:20260515T140000Z
UID:102426910147
DESCRIPTION:INTERNATIONAL DAY OF FAMILIES
LOCATION:
END:VEVENT
BEGIN:VEVENT
SUMMARY:National Walk Safely to School Day
DTSTART;VALUE=DATE:20260514
DTEND;VALUE=DATE:20260515
UID:198253990921
DESCRIPTION:National Walk Safely to School Day
LOCATION:
END:VEVENT
BEGIN:VEVENT
SUMMARY:Term 2 Week 5
DTSTART;VALUE=DATE:20260516
DTEND;VALUE=DATE:20260517
UID:325208630648
DESCRIPTION:Term 2 Week 5
LOCATION:
END:VEVENT
BEGIN:VEVENT
SUMMARY:Cultural Diversity Showcase
DTSTART;VALUE=DATE-TIME:20260521T004000Z
DTEND;VALUE=DATE-TIME:20260521T010000Z
UID:311340662975
DESCRIPTION:Cultural Diversity Showcase
LOCATION:
END:VEVENT
BEGIN:VEVENT
SUMMARY:Cultural Diversity Showcase
DTSTART;VALUE=DATE-TIME:20260521T014000Z
DTEND;VALUE=DATE-TIME:20260521T040000Z
UID:162161024384
DESCRIPTION:Cultural Diversity Showcase
LOCATION:
END:VEVENT
END:VCALENDAR
