BEGIN:VCALENDAR
VERSION:2.0
PRODID:-//chikkutakku.com//RDFCal 1.0//EN
X-WR-CALDESC:GoogleカレンダーやiCalendar形式情報を共有シェ
 アしましょう。近所のイベントから全国のイベントま
 で今日のイベント検索やスケジュールを決めるならち
 っくたっく
X-WR-CALNAME:ちっくたっく
X-WR-TIMEZONE:UTC
BEGIN:VEVENT
SUMMARY:A池袋 初中級クラス10 北畑（スローフォックスト
 ロット③、ジャイブ③）
DTSTART;VALUE=DATE-TIME:20260420T103000Z
DTEND;VALUE=DATE-TIME:20260420T120000Z
UID:160248314116
DESCRIPTION:ステップ名＆動画\nスローフォックストロット
 ③：https://dancecirclej.com/index.php?go=nf0tGD\nジャイブ③：http
 s://dancecirclej.com/index.php?go=g6sX3t
LOCATION:タキガワダンススクール池袋
END:VEVENT
BEGIN:VEVENT
SUMMARY:A池袋 初心者クラス3 吹野（タンゴ②前半、ルン
 バ②前半）
DTSTART;VALUE=DATE-TIME:20260420T103000Z
DTEND;VALUE=DATE-TIME:20260420T120000Z
UID:171319687366
DESCRIPTION:ステップ名＆動画\nタンゴ②前半：https://danceci
 rclej.com/index.php?go=UBHurF\nルンバ②前半：https://dancecirclej.c
 om/index.php?go=fsG2cs
LOCATION:タキガワダンススクール池袋
END:VEVENT
BEGIN:VEVENT
SUMMARY:A池袋 初中級クラス6 滝川（クイックステップ初
 中級A、ジャイブ初中級A）
DTSTART;VALUE=DATE-TIME:20260423T103000Z
DTEND;VALUE=DATE-TIME:20260423T120000Z
UID:666032122727
DESCRIPTION:ステップ名＆動画\nクイックステップ初中級A
 ：https://dancecirclej.com/index.php?go=UErgkK\nジャイブ初中級A：
 https://dancecirclej.com/index.php?go=g6sX3t
LOCATION:タキガワダンススクール池袋
END:VEVENT
BEGIN:VEVENT
SUMMARY:A池袋 中級クラス4 北畑（ワルツ⑤、チャチャチ
 ャ⑤）
DTSTART;VALUE=DATE-TIME:20260424T103000Z
DTEND;VALUE=DATE-TIME:20260424T120000Z
UID:327446910818
DESCRIPTION:ステップ名＆動画\nワルツ⑤：https://dancecirclej.
 com/index.php?go=8KKSvG\nチャチャチャ⑤：https://dancecirclej.com/
 index.php?go=f5Rp6u
LOCATION:タキガワダンススクール池袋
END:VEVENT
BEGIN:VEVENT
SUMMARY:A池袋 初心者クラス15 安田（ジャイブ②、ヴェニ
 ーズワルツ②）
DTSTART;VALUE=DATE-TIME:20260424T103000Z
DTEND;VALUE=DATE-TIME:20260424T120000Z
UID:318326460127
DESCRIPTION:ステップ名＆動画\nジャイブ②：https://dancecircl
 ej.com/index.php?go=g6sX3t\nヴェニーズワルツ②：https://dancecir
 clej.com/index.php?go=wUsAFb
LOCATION:タキガワダンススクール池袋
END:VEVENT
BEGIN:VEVENT
SUMMARY:A池袋 初心者クラス4 吹野（ルンバ②前半、タン
 ゴ②前半）
DTSTART;VALUE=DATE-TIME:20260427T103000Z
DTEND;VALUE=DATE-TIME:20260427T120000Z
UID:186718451989
DESCRIPTION:ステップ名＆動画\nルンバ②前半：https://danceci
 rclej.com/index.php?go=fsG2cs\nタンゴ②前半：https://dancecirclej.c
 om/index.php?go=UBHurF
LOCATION:タキガワダンススクール池袋
END:VEVENT
BEGIN:VEVENT
SUMMARY:A池袋 初中級クラス11 北畑（スローフォックスト
 ロット③、ジャイブ③）
DTSTART;VALUE=DATE-TIME:20260427T103000Z
DTEND;VALUE=DATE-TIME:20260427T120000Z
UID:781509090965
DESCRIPTION:ステップ名＆動画\nスローフォックストロット
 ③：https://dancecirclej.com/index.php?go=nf0tGD\nジャイブ③：http
 s://dancecirclej.com/index.php?go=g6sX3t
LOCATION:タキガワダンススクール池袋
END:VEVENT
BEGIN:VEVENT
SUMMARY:A池袋 初中級クラス7 滝川（サンバ初中級A、スロ
 ー初中級A）
DTSTART;VALUE=DATE-TIME:20260430T103000Z
DTEND;VALUE=DATE-TIME:20260430T120000Z
UID:189615720731
DESCRIPTION:ステップ名＆動画\nサンバ初中級A：https://dancec
 irclej.com/index.php?go=XJbpfn\nスロー初中級A：https://dancecirclej
 .com/index.php?go=nf0tGD
LOCATION:タキガワダンススクール池袋
END:VEVENT
BEGIN:VEVENT
SUMMARY:★休講★A池袋 初中級クラス5 北畑（休み）
DTSTART;VALUE=DATE-TIME:20260501T103000Z
DTEND;VALUE=DATE-TIME:20260501T120000Z
UID:281277727470
DESCRIPTION:ステップ名＆動画\n休み：
LOCATION:タキガワダンススクール池袋
END:VEVENT
BEGIN:VEVENT
SUMMARY:A池袋 初心者クラス16 安田（クイックステップ②
 、サンバ②）
DTSTART;VALUE=DATE-TIME:20260501T103000Z
DTEND;VALUE=DATE-TIME:20260501T120000Z
UID:354754338175
DESCRIPTION:ステップ名＆動画\nクイックステップ②：https:
 //dancecirclej.com/index.php?go=UErgkK\nサンバ②：https://dancecircle
 j.com/index.php?go=XJbpfn
LOCATION:タキガワダンススクール池袋
END:VEVENT
BEGIN:VEVENT
SUMMARY:★休講★A池袋 初中級クラス 北畑（休み）
DTSTART;VALUE=DATE-TIME:20260504T103000Z
DTEND;VALUE=DATE-TIME:20260504T120000Z
UID:256157126201
DESCRIPTION:ステップ名＆動画\n休み：
LOCATION:タキガワダンススクール池袋
END:VEVENT
BEGIN:VEVENT
SUMMARY:★休講★A池袋 初心者クラス 吹野（休み）
DTSTART;VALUE=DATE-TIME:20260504T103000Z
DTEND;VALUE=DATE-TIME:20260504T120000Z
UID:325874917860
DESCRIPTION:ステップ名＆動画\n休み：
LOCATION:タキガワダンススクール池袋
END:VEVENT
BEGIN:VEVENT
SUMMARY:A池袋 初中級クラス8 滝川（サンバ初中級A、スロ
 ー初中級A）
DTSTART;VALUE=DATE-TIME:20260507T103000Z
DTEND;VALUE=DATE-TIME:20260507T120000Z
UID:150181140536
DESCRIPTION:ステップ名＆動画\nサンバ初中級A：https://dancec
 irclej.com/index.php?go=XJbpfn\nスロー初中級A：https://dancecirclej
 .com/index.php?go=nf0tGD
LOCATION:タキガワダンススクール池袋
END:VEVENT
BEGIN:VEVENT
SUMMARY:A池袋 初心者クラス17 安田（パソドブレ②、スロ
 ーフォックストロット②）
DTSTART;VALUE=DATE-TIME:20260508T103000Z
DTEND;VALUE=DATE-TIME:20260508T120000Z
UID:214313768492
DESCRIPTION:ステップ名＆動画\nパソドブレ②：https://danceci
 rclej.com/index.php?go=ZLzSQC\nスローフォックストロット②：h
 ttps://dancecirclej.com/index.php?go=nf0tGD
LOCATION:タキガワダンススクール池袋
END:VEVENT
BEGIN:VEVENT
SUMMARY:A池袋 中級クラス6 北畑（ワルツ⑤、チャチャチ
 ャ⑤）
DTSTART;VALUE=DATE-TIME:20260508T103000Z
DTEND;VALUE=DATE-TIME:20260508T120000Z
UID:219111217799
DESCRIPTION:ステップ名＆動画\nワルツ⑤：https://dancecirclej.
 com/index.php?go=8KKSvG\nチャチャチャ⑤：https://dancecirclej.com/
 index.php?go=f5Rp6u
LOCATION:タキガワダンススクール池袋
END:VEVENT
BEGIN:VEVENT
SUMMARY:A池袋 初中級クラス12 北畑（スローフォックスト
 ロット③、ジャイブ③）
DTSTART;VALUE=DATE-TIME:20260511T103000Z
DTEND;VALUE=DATE-TIME:20260511T120000Z
UID:117593379857
DESCRIPTION:ステップ名＆動画\nスローフォックストロット
 ③：https://dancecirclej.com/index.php?go=nf0tGD\nジャイブ③：http
 s://dancecirclej.com/index.php?go=g6sX3t
LOCATION:タキガワダンススクール池袋
END:VEVENT
BEGIN:VEVENT
SUMMARY:A池袋 初心者クラス5 吹野（ワルツ②、チャチャ
 チャ②前半）
DTSTART;VALUE=DATE-TIME:20260511T103000Z
DTEND;VALUE=DATE-TIME:20260511T120000Z
UID:276349603263
DESCRIPTION:ステップ名＆動画\nワルツ②：https://dancecirclej.
 com/index.php?go=8KKSvG\nチャチャチャ②前半：https://dancecircle
 j.com/index.php?go=f5Rp6u
LOCATION:タキガワダンススクール池袋
END:VEVENT
BEGIN:VEVENT
SUMMARY:★休講★A池袋 初中級クラス 滝川（休み）
DTSTART;VALUE=DATE-TIME:20260514T103000Z
DTEND;VALUE=DATE-TIME:20260514T120000Z
UID:748395645298
DESCRIPTION:ステップ名＆動画\n休み：
LOCATION:タキガワダンススクール池袋
END:VEVENT
BEGIN:VEVENT
SUMMARY:A池袋 中級クラス7 北畑（ワルツ⑤+α、チャチャ
 チャ⑤+α）
DTSTART;VALUE=DATE-TIME:20260515T103000Z
DTEND;VALUE=DATE-TIME:20260515T120000Z
UID:156196473239
DESCRIPTION:ステップ名＆動画\nワルツ⑤+α：https://dancecircl
 ej.com/index.php?go=8KKSvG\nチャチャチャ⑤+α：https://dancecircle
 j.com/index.php?go=f5Rp6u
LOCATION:タキガワダンススクール池袋
END:VEVENT
BEGIN:VEVENT
SUMMARY:A池袋 初心者クラス18 安田（ヴェニーズワルツ④
 、ジャイブ②）
DTSTART;VALUE=DATE-TIME:20260515T103000Z
DTEND;VALUE=DATE-TIME:20260515T120000Z
UID:366041882425
DESCRIPTION:ステップ名＆動画\nヴェニーズワルツ④：https:
 //dancecirclej.com/index.php?go=wUsAFb\nジャイブ②：https://dancecir
 clej.com/index.php?go=g6sX3t
LOCATION:タキガワダンススクール池袋
END:VEVENT
BEGIN:VEVENT
SUMMARY:A池袋 初中級クラス13 北畑（サンバ③、クイック
 ステップ③）
DTSTART;VALUE=DATE-TIME:20260518T103000Z
DTEND;VALUE=DATE-TIME:20260518T120000Z
UID:149247839250
DESCRIPTION:ステップ名＆動画\nサンバ③：https://dancecirclej.
 com/index.php?go=XJbpfn\nクイックステップ③：https://dancecircle
 j.com/index.php?go=UErgkK
LOCATION:タキガワダンススクール池袋
END:VEVENT
BEGIN:VEVENT
SUMMARY:A池袋 初心者クラス6 吹野（チャチャチャ②前半
 、ワルツ②）
DTSTART;VALUE=DATE-TIME:20260518T103000Z
DTEND;VALUE=DATE-TIME:20260518T120000Z
UID:338731722185
DESCRIPTION:ステップ名＆動画\nチャチャチャ②前半：https:
 //dancecirclej.com/index.php?go=f5Rp6u\nワルツ②：https://dancecircle
 j.com/index.php?go=8KKSvG
LOCATION:タキガワダンススクール池袋
END:VEVENT
END:VCALENDAR
