BEGIN:VCALENDAR
VERSION:2.0
PRODID:-//chikkutakku.com//RDFCal 1.0//EN
X-WR-CALDESC:GoogleカレンダーやiCalendar形式情報を共有シェ
 アしましょう。近所のイベントから全国のイベントま
 で今日のイベント検索やスケジュールを決めるならち
 っくたっく
X-WR-CALNAME:ちっくたっく
X-WR-TIMEZONE:UTC
BEGIN:VEVENT
SUMMARY:準備日
DTSTART;VALUE=DATE:20260421
DTEND;VALUE=DATE:20260422
UID:310545375633
DESCRIPTION:準備日
LOCATION:
END:VEVENT
BEGIN:VEVENT
SUMMARY:塩麹で春ご飯♪
DTSTART;VALUE=DATE:20260422
DTEND;VALUE=DATE:20260423
UID:151321330449
DESCRIPTION:塩麹で春ご飯♪
LOCATION:
END:VEVENT
BEGIN:VEVENT
SUMMARY:上杉教室
DTSTART;VALUE=DATE-TIME:20260502T012000Z
DTEND;VALUE=DATE-TIME:20260502T025000Z
UID:266190380957
DESCRIPTION:上杉教室
LOCATION:
END:VEVENT
BEGIN:VEVENT
SUMMARY:準備日
DTSTART;VALUE=DATE:20260507
DTEND;VALUE=DATE:20260508
UID:194480201506
DESCRIPTION:準備日
LOCATION:
END:VEVENT
BEGIN:VEVENT
SUMMARY:アロマジェルローション作り
DTSTART;VALUE=DATE:20260508
DTEND;VALUE=DATE:20260509
UID:253575123092
DESCRIPTION:アロマジェルローション作り
LOCATION:
END:VEVENT
BEGIN:VEVENT
SUMMARY:古川教室
DTSTART;VALUE=DATE-TIME:20260515T084000Z
DTEND;VALUE=DATE-TIME:20260515T104000Z
UID:236537495255
DESCRIPTION:研修室3
LOCATION:
END:VEVENT
BEGIN:VEVENT
SUMMARY:準備日
DTSTART;VALUE=DATE:20260514
DTEND;VALUE=DATE:20260515
UID:120069993221
DESCRIPTION:準備日
LOCATION:
END:VEVENT
BEGIN:VEVENT
SUMMARY:漢方薬膳入門レッスン
DTSTART;VALUE=DATE:20260515
DTEND;VALUE=DATE:20260516
UID:167594895555
DESCRIPTION:漢方薬膳入門レッスン
LOCATION:
END:VEVENT
BEGIN:VEVENT
SUMMARY:準備日
DTSTART;VALUE=DATE:20260519
DTEND;VALUE=DATE:20260520
UID:332102737855
DESCRIPTION:準備日
LOCATION:
END:VEVENT
BEGIN:VEVENT
SUMMARY:5月の薬膳養生
DTSTART;VALUE=DATE:20260520
DTEND;VALUE=DATE:20260521
UID:233400224621
DESCRIPTION:5月の薬膳養生
LOCATION:
END:VEVENT
END:VCALENDAR
