BEGIN:VCALENDAR
VERSION:2.0
PRODID:-//chikkutakku.com//RDFCal 1.0//EN
X-WR-CALDESC:GoogleカレンダーやiCalendar形式情報を共有シェ
 アしましょう。近所のイベントから全国のイベントま
 で今日のイベント検索やスケジュールを決めるならち
 っくたっく
X-WR-CALNAME:ちっくたっく
X-WR-TIMEZONE:UTC
BEGIN:VEVENT
SUMMARY:友引
DTSTART;VALUE=DATE:20260421
DTEND;VALUE=DATE:20260422
UID:148625049653
DESCRIPTION:友引
LOCATION:
END:VEVENT
BEGIN:VEVENT
SUMMARY:先負
DTSTART;VALUE=DATE:20260422
DTEND;VALUE=DATE:20260423
UID:753674821851
DESCRIPTION:先負
LOCATION:
END:VEVENT
BEGIN:VEVENT
SUMMARY:仏滅
DTSTART;VALUE=DATE:20260423
DTEND;VALUE=DATE:20260424
UID:303664462651
DESCRIPTION:仏滅
LOCATION:
END:VEVENT
BEGIN:VEVENT
SUMMARY:大安
DTSTART;VALUE=DATE:20260424
DTEND;VALUE=DATE:20260425
UID:658065976549
DESCRIPTION:大安
LOCATION:
END:VEVENT
BEGIN:VEVENT
SUMMARY:赤口
DTSTART;VALUE=DATE:20260425
DTEND;VALUE=DATE:20260426
UID:980182574454
DESCRIPTION:赤口
LOCATION:
END:VEVENT
BEGIN:VEVENT
SUMMARY:先勝
DTSTART;VALUE=DATE:20260426
DTEND;VALUE=DATE:20260427
UID:266671053739
DESCRIPTION:先勝
LOCATION:
END:VEVENT
BEGIN:VEVENT
SUMMARY:友引
DTSTART;VALUE=DATE:20260427
DTEND;VALUE=DATE:20260428
UID:167979278981
DESCRIPTION:友引
LOCATION:
END:VEVENT
BEGIN:VEVENT
SUMMARY:先負
DTSTART;VALUE=DATE:20260428
DTEND;VALUE=DATE:20260429
UID:260627914035
DESCRIPTION:先負
LOCATION:
END:VEVENT
BEGIN:VEVENT
SUMMARY:仏滅
DTSTART;VALUE=DATE:20260429
DTEND;VALUE=DATE:20260430
UID:197824376893
DESCRIPTION:仏滅
LOCATION:
END:VEVENT
BEGIN:VEVENT
SUMMARY:大安
DTSTART;VALUE=DATE:20260430
DTEND;VALUE=DATE:20260501
UID:311186823790
DESCRIPTION:大安
LOCATION:
END:VEVENT
BEGIN:VEVENT
SUMMARY:赤口
DTSTART;VALUE=DATE:20260501
DTEND;VALUE=DATE:20260502
UID:962283160113
DESCRIPTION:赤口
LOCATION:
END:VEVENT
BEGIN:VEVENT
SUMMARY:先勝
DTSTART;VALUE=DATE:20260502
DTEND;VALUE=DATE:20260503
UID:292440903165
DESCRIPTION:先勝
LOCATION:
END:VEVENT
BEGIN:VEVENT
SUMMARY:友引
DTSTART;VALUE=DATE:20260503
DTEND;VALUE=DATE:20260504
UID:284575892350
DESCRIPTION:友引
LOCATION:
END:VEVENT
BEGIN:VEVENT
SUMMARY:先負
DTSTART;VALUE=DATE:20260504
DTEND;VALUE=DATE:20260505
UID:115122546200
DESCRIPTION:先負
LOCATION:
END:VEVENT
BEGIN:VEVENT
SUMMARY:仏滅
DTSTART;VALUE=DATE:20260505
DTEND;VALUE=DATE:20260506
UID:123807149513
DESCRIPTION:仏滅
LOCATION:
END:VEVENT
BEGIN:VEVENT
SUMMARY:大安
DTSTART;VALUE=DATE:20260506
DTEND;VALUE=DATE:20260507
UID:151129130483
DESCRIPTION:大安
LOCATION:
END:VEVENT
BEGIN:VEVENT
SUMMARY:赤口
DTSTART;VALUE=DATE:20260507
DTEND;VALUE=DATE:20260508
UID:276113137620
DESCRIPTION:赤口
LOCATION:
END:VEVENT
BEGIN:VEVENT
SUMMARY:先勝
DTSTART;VALUE=DATE:20260508
DTEND;VALUE=DATE:20260509
UID:166717733180
DESCRIPTION:先勝
LOCATION:
END:VEVENT
BEGIN:VEVENT
SUMMARY:友引
DTSTART;VALUE=DATE:20260509
DTEND;VALUE=DATE:20260510
UID:318914899239
DESCRIPTION:友引
LOCATION:
END:VEVENT
BEGIN:VEVENT
SUMMARY:先負
DTSTART;VALUE=DATE:20260510
DTEND;VALUE=DATE:20260511
UID:114690513558
DESCRIPTION:先負
LOCATION:
END:VEVENT
BEGIN:VEVENT
SUMMARY:仏滅
DTSTART;VALUE=DATE:20260511
DTEND;VALUE=DATE:20260512
UID:595044828801
DESCRIPTION:仏滅
LOCATION:
END:VEVENT
BEGIN:VEVENT
SUMMARY:大安
DTSTART;VALUE=DATE:20260512
DTEND;VALUE=DATE:20260513
UID:317567161454
DESCRIPTION:大安
LOCATION:
END:VEVENT
BEGIN:VEVENT
SUMMARY:赤口
DTSTART;VALUE=DATE:20260513
DTEND;VALUE=DATE:20260514
UID:147547225622
DESCRIPTION:赤口
LOCATION:
END:VEVENT
BEGIN:VEVENT
SUMMARY:先勝
DTSTART;VALUE=DATE:20260514
DTEND;VALUE=DATE:20260515
UID:281393769035
DESCRIPTION:先勝
LOCATION:
END:VEVENT
BEGIN:VEVENT
SUMMARY:友引
DTSTART;VALUE=DATE:20260515
DTEND;VALUE=DATE:20260516
UID:260372307587
DESCRIPTION:友引
LOCATION:
END:VEVENT
BEGIN:VEVENT
SUMMARY:仏滅
DTSTART;VALUE=DATE:20260516
DTEND;VALUE=DATE:20260517
UID:194672746651
DESCRIPTION:仏滅
LOCATION:
END:VEVENT
BEGIN:VEVENT
SUMMARY:大安
DTSTART;VALUE=DATE:20260517
DTEND;VALUE=DATE:20260518
UID:209461506683
DESCRIPTION:大安
LOCATION:
END:VEVENT
BEGIN:VEVENT
SUMMARY:赤口
DTSTART;VALUE=DATE:20260518
DTEND;VALUE=DATE:20260519
UID:230177397393
DESCRIPTION:赤口
LOCATION:
END:VEVENT
BEGIN:VEVENT
SUMMARY:先勝
DTSTART;VALUE=DATE:20260519
DTEND;VALUE=DATE:20260520
UID:225012141002
DESCRIPTION:先勝
LOCATION:
END:VEVENT
END:VCALENDAR
