BEGIN:VCALENDAR
VERSION:2.0
PRODID:-//chikkutakku.com//RDFCal 1.0//EN
X-WR-CALDESC:GoogleカレンダーやiCalendar形式情報を共有シェ
 アしましょう。近所のイベントから全国のイベントま
 で今日のイベント検索やスケジュールを決めるならち
 っくたっく
X-WR-CALNAME:ちっくたっく
X-WR-TIMEZONE:UTC
BEGIN:VEVENT
SUMMARY:私たちがやったこと
DTSTART;VALUE=DATE:20260506
DTEND;VALUE=DATE:20260507
UID:248416019108
DESCRIPTION:2026-05-07私たちがやったことレベッカ・ブラウ
 ン/柴田元幸twililight
LOCATION:
END:VEVENT
BEGIN:VEVENT
SUMMARY:死ぬまでに読みたい1000冊 人生を豊かにする世界
 の名著
DTSTART;VALUE=DATE:20260519
DTEND;VALUE=DATE:20260520
UID:207108443508
DESCRIPTION:2026-05-20死ぬまでに読みたい1000冊 人生を豊か
 にする世界の名著JamesMustich/柴田元幸すばる舎
LOCATION:
END:VEVENT
END:VCALENDAR
