BEGIN:VCALENDAR
VERSION:2.0
PRODID:-//chikkutakku.com//RDFCal 1.0//EN
X-WR-CALDESC:GoogleカレンダーやiCalendar形式情報を共有シェ
 アしましょう。近所のイベントから全国のイベントま
 で今日のイベント検索やスケジュールを決めるならち
 っくたっく
X-WR-CALNAME:ちっくたっく
X-WR-TIMEZONE:UTC
BEGIN:VEVENT
SUMMARY:【学外相談会】横浜
DTSTART;VALUE=DATE-TIME:20260428T041500Z
DTEND;VALUE=DATE-TIME:20260428T090000Z
UID:312526857020
DESCRIPTION:武蔵大学ブース出展https://shinronavi.com/guidance/#ar
 eaWrap03
LOCATION:パシフィコ横浜\, 日本、〒220-0012 神奈川県横浜
 市西区みなとみらい１丁目１−１
END:VEVENT
BEGIN:VEVENT
SUMMARY:【学外相談会】後楽園
DTSTART;VALUE=DATE-TIME:20260522T043000Z
DTEND;VALUE=DATE-TIME:20260522T090000Z
UID:817188463839
DESCRIPTION:武蔵大学ブース出展https://www.sanpou-s.net/edu-event/
LOCATION:東京ドーム
END:VEVENT
BEGIN:VEVENT
SUMMARY:【学外相談会】横浜
DTSTART;VALUE=DATE-TIME:20260523T023000Z
DTEND;VALUE=DATE-TIME:20260523T090000Z
UID:330532634223
DESCRIPTION:武蔵大学ブース出展https://univ-festa.jp/
LOCATION:新都市ホール（横浜そごう9階）
END:VEVENT
END:VCALENDAR
