BEGIN:VCALENDAR
VERSION:2.0
PRODID:-//chikkutakku.com//RDFCal 1.0//EN
X-WR-CALDESC:GoogleカレンダーやiCalendar形式情報を共有シェ
 アしましょう。近所のイベントから全国のイベントま
 で今日のイベント検索やスケジュールを決めるならち
 っくたっく
X-WR-CALNAME:ちっくたっく
X-WR-TIMEZONE:UTC
BEGIN:VEVENT
SUMMARY:ＯＴＩＴ研究会
DTSTART;VALUE=DATE-TIME:20260422T150000Z
DTEND;VALUE=DATE-TIME:20260422T150000Z
UID:255122169959
DESCRIPTION:明日都1階大会議室
LOCATION:明日都浜大津\, 日本、〒520-8530 滋賀県大津市浜
 大津４丁目１−１
END:VEVENT
BEGIN:VEVENT
SUMMARY:健康マージャン
DTSTART;VALUE=DATE-TIME:20260424T150000Z
DTEND;VALUE=DATE-TIME:20260424T150000Z
UID:147840421987
DESCRIPTION:健康マージャン
LOCATION:
END:VEVENT
END:VCALENDAR
