BEGIN:VCALENDAR
VERSION:2.0
PRODID:-//chikkutakku.com//RDFCal 1.0//EN
X-WR-CALDESC:GoogleカレンダーやiCalendar形式情報を共有シェ
 アしましょう。近所のイベントから全国のイベントま
 で今日のイベント検索やスケジュールを決めるならち
 っくたっく
X-WR-CALNAME:ちっくたっく
X-WR-TIMEZONE:UTC
BEGIN:VEVENT
SUMMARY:山豐校慶暨親職教育日 
DTSTART;VALUE=DATE:20260424
DTEND;VALUE=DATE:20260425
UID:903603185724
DESCRIPTION:山豐校慶暨親職教育日 
LOCATION:
END:VEVENT
BEGIN:VEVENT
SUMMARY:親職日補假
DTSTART;VALUE=DATE-TIME:20260430T000000Z
DTEND;VALUE=DATE-TIME:20260430T010000Z
UID:321253405067
DESCRIPTION:親職日補假
LOCATION:
END:VEVENT
BEGIN:VEVENT
SUMMARY:自治市長政見發表(活動中心)
DTSTART;VALUE=DATE-TIME:20260507T001000Z
DTEND;VALUE=DATE-TIME:20260507T004000Z
UID:323431529543
DESCRIPTION:自治市長政見發表(活動中心)
LOCATION:
END:VEVENT
BEGIN:VEVENT
SUMMARY:一年級戶外教育(麥克田園)
DTSTART;VALUE=DATE:20260506
DTEND;VALUE=DATE:20260507
UID:226007035687
DESCRIPTION:一年級戶外教育(麥克田園)
LOCATION:
END:VEVENT
BEGIN:VEVENT
SUMMARY: 四年級戶外教育(六福村)
DTSTART;VALUE=DATE:20260507
DTEND;VALUE=DATE:20260508
UID:251031548219
DESCRIPTION: 四年級戶外教育(六福村)
LOCATION:
END:VEVENT
BEGIN:VEVENT
SUMMARY:自治市長投票(會議室)
DTSTART;VALUE=DATE-TIME:20260514T004500Z
DTEND;VALUE=DATE-TIME:20260514T014500Z
UID:184043146126
DESCRIPTION:自治市長投票(會議室)
LOCATION:
END:VEVENT
BEGIN:VEVENT
SUMMARY:五年級月經平權宣導(視聽教室)
DTSTART;VALUE=DATE-TIME:20260515T032000Z
DTEND;VALUE=DATE-TIME:20260515T040000Z
UID:183179365084
DESCRIPTION:五年級月經平權宣導(視聽教室)
LOCATION:
END:VEVENT
END:VCALENDAR
