BEGIN:VCALENDAR
VERSION:2.0
PRODID:-//chikkutakku.com//RDFCal 1.0//EN
X-WR-CALDESC:GoogleカレンダーやiCalendar形式情報を共有シェ
 アしましょう。近所のイベントから全国のイベントま
 で今日のイベント検索やスケジュールを決めるならち
 っくたっく
X-WR-CALNAME:ちっくたっく
X-WR-TIMEZONE:UTC
BEGIN:VEVENT
SUMMARY:6番
DTSTART;VALUE=DATE-TIME:20260425T050000Z
DTEND;VALUE=DATE-TIME:20260425T070000Z
UID:319940212596
DESCRIPTION:05105-02WAB 106: 交響曲第6番 イ長調パブロ・エラ
 ス=カサド / 東京交響楽団出典
LOCATION:ミューザ川崎シンフォニーホール\, 日本、〒212-8
 557 神奈川県川崎市幸区大宮町１３１０
END:VEVENT
BEGIN:VEVENT
SUMMARY:4番
DTSTART;VALUE=DATE-TIME:20260425T090000Z
DTEND;VALUE=DATE-TIME:20260425T110000Z
UID:142253044860
DESCRIPTION:05110-03WAB 104: 交響曲第4番 変ホ長調「ロマンテ
 ィック」直井 大輔 / Philharmonic Orchestra of Nimbus出典
LOCATION:武蔵野市民文化会館\, 日本、〒180-0006 東京都武
 蔵野市中町３丁目９−１１
END:VEVENT
BEGIN:VEVENT
SUMMARY:4番
DTSTART;VALUE=DATE-TIME:20260426T050000Z
DTEND;VALUE=DATE-TIME:20260426T070000Z
UID:131251068866
DESCRIPTION:04976-03WAB 104: 交響曲第4番 変ホ長調「ロマンテ
 ィック」西口 彰浩 / YAO管弦楽団出典
LOCATION:鎌倉芸術館\, 日本、〒247-0056 神奈川県鎌倉市大
 船６丁目１−２
END:VEVENT
BEGIN:VEVENT
SUMMARY:6番
DTSTART;VALUE=DATE-TIME:20260426T050000Z
DTEND;VALUE=DATE-TIME:20260426T070000Z
UID:154192861413
DESCRIPTION:05106-02WAB 106: 交響曲第6番 イ長調パブロ・エラ
 ス=カサド / 東京交響楽団出典
LOCATION:サントリーホール\, 日本、〒107-0052 東京都港区
 赤坂１丁目１３−１
END:VEVENT
BEGIN:VEVENT
SUMMARY:合唱曲\, 合唱曲\, 合唱曲\, 合唱曲
DTSTART;VALUE=DATE-TIME:20260429T050000Z
DTEND;VALUE=DATE-TIME:20260429T070000Z
UID:106962392923
DESCRIPTION:05228-01-1WAB 6: アヴェ・マリア ヘ長調吉田 宏 / V
 OCE ARMONICA05228-01-2WAB 11: キリストは従順であられた ニ短
 調吉田 宏 / VOCE ARMONICA05228-01-3WAB 30: 正しい者の口は知恵
 を語り吉田 宏 / VOCE ARMONICA05228-01-4WAB 52: エサイの枝は芽
 を出し ホ短調吉田 宏 / VOCE ARMONICA出典
LOCATION:第一生命ホール\, 日本、〒104-0053 東京都中央区
 晴海１丁目８−９ 晴海トリトンスクエア
END:VEVENT
BEGIN:VEVENT
SUMMARY:合唱曲
DTSTART;VALUE=DATE-TIME:20260503T043000Z
DTEND;VALUE=DATE-TIME:20260503T063000Z
UID:193681975499
DESCRIPTION:05248-03WAB NN: モテット / 混声合唱団翠の風出典
LOCATION:横浜みなとみらいホール\, 日本、〒220-0012 神奈
 川県横浜市西区みなとみらい２丁目３−６
END:VEVENT
BEGIN:VEVENT
SUMMARY:合唱曲\, 合唱曲\, 合唱曲
DTSTART;VALUE=DATE-TIME:20260504T070000Z
DTEND;VALUE=DATE-TIME:20260504T072000Z
UID:310798624163
DESCRIPTION:05280-02-1WAB NN: アヴェ・マリア高野 秀峰 / 丸の
 内合唱団05280-02-2WAB 23: この所は神により作られた ハ長
 調高野 秀峰 / 丸の内合唱団05280-02-3WAB NN: キリストは従
 順であられた ニ短調高野 秀峰 / 丸の内合唱団
LOCATION:東京国際フォーラム\, 日本、〒100-0005 東京都千
 代田区丸の内３丁目５
END:VEVENT
BEGIN:VEVENT
SUMMARY:合唱曲\, 合唱曲\, 合唱曲\, 合唱曲
DTSTART;VALUE=DATE-TIME:20260506T060000Z
DTEND;VALUE=DATE-TIME:20260506T080000Z
UID:243496477453
DESCRIPTION:05229-06-1WAB 23: この所は神により作られた ハ長
 調エルヴィン・オルトナー / Tokyo Cantat 2026 合唱団05229-06
 -2WAB 30: 正しい者の口は知恵を語りエルヴィン・オルト
 ナー / Tokyo Cantat 2026 合唱団05229-06-3WAB NN: Christus factus est
 エルヴィン・オルトナー / Tokyo Cantat 2026 合唱団05229-06-4W
 AB NN: Ave Mariaエルヴィン・オルトナー / Tokyo Cantat 2026 合
 唱団出典
LOCATION:文京シビックホール\, 日本、〒112-0003 東京都文
 京区春日１丁目１６−２１ 文京シビックセンター 2F
END:VEVENT
BEGIN:VEVENT
SUMMARY:7番
DTSTART;VALUE=DATE-TIME:20260507T100000Z
DTEND;VALUE=DATE-TIME:20260507T120000Z
UID:129221546048
DESCRIPTION:05256-01WAB 107: 交響曲第7番 ホ長調 / 日独楽友協
 会シンフォニッシェアカデミー出典魚拓
LOCATION:彩の国さいたま芸術劇場\, 日本、〒338-0014 埼玉
 県さいたま市中央区上峰３丁目１５−１
END:VEVENT
BEGIN:VEVENT
SUMMARY:合唱曲
DTSTART;VALUE=DATE-TIME:20260509T053000Z
DTEND;VALUE=DATE-TIME:20260509T073000Z
UID:263733232058
DESCRIPTION:05257-01-2WAB 27: ミサ曲第2番 ホ短調 (Gloria)雨森 
 文也 / pf. : 平林 知子\; pf. : 野間 春美\; CANTUS ANIMAE出典
 魚拓
LOCATION:第一生命ホール\, 日本、〒104-0053 東京都中央区
 晴海１丁目８−９ 晴海トリトンスクエア
END:VEVENT
BEGIN:VEVENT
SUMMARY:合唱曲
DTSTART;VALUE=DATE-TIME:20260509T100000Z
DTEND;VALUE=DATE-TIME:20260509T120000Z
UID:126647293241
DESCRIPTION:05258-02WAB NN: モテット集より山口 遥平 / Posaunen-
 Ensemble TOKYO出典魚拓
LOCATION:小金井 宮地楽器ホール (小金井市民交流センタ
 ー)\, 日本、〒184-0004 東京都小金井市本町６丁目１４−
 ４５
END:VEVENT
BEGIN:VEVENT
SUMMARY:4番
DTSTART;VALUE=DATE-TIME:20260517T050000Z
DTEND;VALUE=DATE-TIME:20260517T070000Z
UID:495201850515
DESCRIPTION:05239-02WAB 104: 交響曲第4番 変ホ長調「ロマンテ
 ィック」高橋 俊之 / 北区民オーケストラ出典魚拓
LOCATION:北とぴあ\, 日本、〒114-8503 東京都北区王子１丁
 目１１−１
END:VEVENT
BEGIN:VEVENT
SUMMARY:4番
DTSTART;VALUE=DATE-TIME:20260518T100000Z
DTEND;VALUE=DATE-TIME:20260518T120000Z
UID:215393306621
DESCRIPTION:05206-02WAB 104: 交響曲第4番 変ホ長調「ロマンテ
 ィック」パーヴォ・ヤルヴィ / チューリッヒ・トーン
 ハレ管弦楽団出典
LOCATION:サントリーホール\, 日本、〒107-0052 東京都港区
 赤坂１丁目１３−１
END:VEVENT
END:VCALENDAR
