BEGIN:VCALENDAR
VERSION:2.0
PRODID:-//chikkutakku.com//RDFCal 1.0//EN
X-WR-CALDESC:GoogleカレンダーやiCalendar形式情報を共有シェ
 アしましょう。近所のイベントから全国のイベントま
 で今日のイベント検索やスケジュールを決めるならち
 っくたっく
X-WR-CALNAME:ちっくたっく
X-WR-TIMEZONE:UTC
BEGIN:VEVENT
SUMMARY:けんぐゎい
DTSTART;VALUE=DATE:20260421
DTEND;VALUE=DATE:20260422
UID:321796274059
DESCRIPTION:2026-04-22けんぐゎい朝倉かすみ光文社
LOCATION:
END:VEVENT
BEGIN:VEVENT
SUMMARY:眠れぬおまえに遠くの夜を
DTSTART;VALUE=DATE:20260421
DTEND;VALUE=DATE:20260422
UID:140575143214
DESCRIPTION:2026-04-22眠れぬおまえに遠くの夜を桐野 夏生文
 藝春秋
LOCATION:
END:VEVENT
BEGIN:VEVENT
SUMMARY:ヘンゼルとグレーテル
DTSTART;VALUE=DATE:20260423
DTEND;VALUE=DATE:20260424
UID:212049481298
DESCRIPTION:2026-04-24ヘンゼルとグレーテルスティーヴン・
 キング/モーリス・センダック/穂村 弘NHK出版
LOCATION:
END:VEVENT
BEGIN:VEVENT
SUMMARY:怪と幽 vol.022 2026年5月
DTSTART;VALUE=DATE:20260426
DTEND;VALUE=DATE:20260427
UID:203181372113
DESCRIPTION:2026-04-27怪と幽 vol.022 2026年5月京極 夏彦/綿矢 
 りさ/小川 洋子/澤村伊智/乙 一/山白 朝子KADOKAWA
LOCATION:
END:VEVENT
BEGIN:VEVENT
SUMMARY:国宝（5）
DTSTART;VALUE=DATE:20260429
DTEND;VALUE=DATE:20260430
UID:212236519187
DESCRIPTION:2026-04-30国宝（5）吉田 修一/三国 史明小学館
LOCATION:
END:VEVENT
BEGIN:VEVENT
SUMMARY:本屋さんのある街で
DTSTART;VALUE=DATE:20260507
DTEND;VALUE=DATE:20260508
UID:190334569839
DESCRIPTION:2026-05-08本屋さんのある街で凪良 ゆう/瀬尾 ま
 いこ/坂木 司/一穂 ミチ/三浦 しをん文藝春秋
LOCATION:
END:VEVENT
BEGIN:VEVENT
SUMMARY:複雑化の教育論
DTSTART;VALUE=DATE:20260508
DTEND;VALUE=DATE:20260509
UID:317473862757
DESCRIPTION:2026-05-09複雑化の教育論内田 樹大和書房
LOCATION:
END:VEVENT
BEGIN:VEVENT
SUMMARY:ごはんを変えると人生が変わる
DTSTART;VALUE=DATE:20260508
DTEND;VALUE=DATE:20260509
UID:626506957125
DESCRIPTION:2026-05-09ごはんを変えると人生が変わる姫野友
 美大和書房
LOCATION:
END:VEVENT
BEGIN:VEVENT
SUMMARY:A09 かわいいもの いっぱい 15ピース
DTSTART;VALUE=DATE:20260509
DTEND;VALUE=DATE:20260510
UID:202371633726
DESCRIPTION:2026-05-10A09 かわいいもの いっぱい 15ピース池
 谷裕二/七海喜つゆり永岡書店
LOCATION:
END:VEVENT
BEGIN:VEVENT
SUMMARY:A08 わくわく！ ちいさないきもの 15ピース
DTSTART;VALUE=DATE:20260509
DTEND;VALUE=DATE:20260510
UID:147299399810
DESCRIPTION:2026-05-10A08 わくわく！ ちいさないきもの 15ピ
 ース池谷裕二/さとうゆか永岡書店
LOCATION:
END:VEVENT
BEGIN:VEVENT
SUMMARY:B09 かっこいい！ おしごと 28ピース
DTSTART;VALUE=DATE:20260509
DTEND;VALUE=DATE:20260510
UID:249736312707
DESCRIPTION:2026-05-10B09 かっこいい！ おしごと 28ピース池
 谷裕二/幸池重季/佐伯英次永岡書店
LOCATION:
END:VEVENT
BEGIN:VEVENT
SUMMARY:A07 だいすき！ きょうりゅう 15ピース
DTSTART;VALUE=DATE:20260509
DTEND;VALUE=DATE:20260510
UID:167373916668
DESCRIPTION:2026-05-10A07 だいすき！ きょうりゅう 15ピース
 池谷裕二/金田啓介永岡書店
LOCATION:
END:VEVENT
BEGIN:VEVENT
SUMMARY:がんばれ、おめでとう、ありがとう
DTSTART;VALUE=DATE:20260511
DTEND;VALUE=DATE:20260512
UID:351032687898
DESCRIPTION:2026-05-12がんばれ、おめでとう、ありがとう朝
 倉かすみ幻冬舎
LOCATION:
END:VEVENT
BEGIN:VEVENT
SUMMARY:最後の晩餐
DTSTART;VALUE=DATE:20260514
DTEND;VALUE=DATE:20260515
UID:168725399587
DESCRIPTION:2026-05-15最後の晩餐江國 香織/金原 ひとみ/角田
  光代/寺地 はるな/原田 ひ香/藤野 千夜角川春樹事務所
LOCATION:
END:VEVENT
END:VCALENDAR
