BEGIN:VCALENDAR
VERSION:2.0
PRODID:-//chikkutakku.com//RDFCal 1.0//EN
X-WR-CALDESC:GoogleカレンダーやiCalendar形式情報を共有シェ
 アしましょう。近所のイベントから全国のイベントま
 で今日のイベント検索やスケジュールを決めるならち
 っくたっく
X-WR-CALNAME:ちっくたっく
X-WR-TIMEZONE:UTC
BEGIN:VEVENT
SUMMARY:19:00
DTSTART;VALUE=DATE:20260426
DTEND;VALUE=DATE:20260428
UID:254720055106
DESCRIPTION:19:00
LOCATION:
END:VEVENT
BEGIN:VEVENT
SUMMARY:19：00
DTSTART;VALUE=DATE:20260429
DTEND;VALUE=DATE:20260501
UID:245655393565
DESCRIPTION:19：00
LOCATION:
END:VEVENT
BEGIN:VEVENT
SUMMARY:19:00
DTSTART;VALUE=DATE:20260506
DTEND;VALUE=DATE:20260508
UID:305594774182
DESCRIPTION:19:00
LOCATION:
END:VEVENT
BEGIN:VEVENT
SUMMARY:19:00
DTSTART;VALUE=DATE:20260510
DTEND;VALUE=DATE:20260515
UID:684203422965
DESCRIPTION:19:00
LOCATION:
END:VEVENT
BEGIN:VEVENT
SUMMARY:19:00
DTSTART;VALUE=DATE:20260517
DTEND;VALUE=DATE:20260522
UID:190777169291
DESCRIPTION:19:00
LOCATION:
END:VEVENT
END:VCALENDAR
