BEGIN:VCALENDAR
VERSION:2.0
PRODID:-//chikkutakku.com//RDFCal 1.0//EN
X-WR-CALDESC:GoogleカレンダーやiCalendar形式情報を共有シェ
 アしましょう。近所のイベントから全国のイベントま
 で今日のイベント検索やスケジュールを決めるならち
 っくたっく
X-WR-CALNAME:ちっくたっく
X-WR-TIMEZONE:UTC
BEGIN:VEVENT
SUMMARY:環境推進工場新規登録講習会
DTSTART;VALUE=DATE-TIME:20260428T010000Z
DTEND;VALUE=DATE-TIME:20260428T080000Z
UID:188148485307
DESCRIPTION:環境推進工場新規登録講習会
LOCATION:日本印刷会館
END:VEVENT
BEGIN:VEVENT
SUMMARY:スキルアップセミナーⅡ②
DTSTART;VALUE=DATE-TIME:20260428T003000Z
DTEND;VALUE=DATE-TIME:20260428T080000Z
UID:329967587437
DESCRIPTION:スキルアップセミナーⅡ②
LOCATION:中央・城北職業能力開発センター
END:VEVENT
BEGIN:VEVENT
SUMMARY:スキルアップセミナーⅡ③
DTSTART;VALUE=DATE-TIME:20260501T003000Z
DTEND;VALUE=DATE-TIME:20260501T080000Z
UID:212706112810
DESCRIPTION:スキルアップセミナーⅡ③
LOCATION:中央・城北職業能力開発センター
END:VEVENT
BEGIN:VEVENT
SUMMARY:東青協役員会
DTSTART;VALUE=DATE-TIME:20260507T100000Z
DTEND;VALUE=DATE-TIME:20260507T113000Z
UID:106471370586
DESCRIPTION:東青協役員会
LOCATION:5F
END:VEVENT
BEGIN:VEVENT
SUMMARY:JPPS審査委員会
DTSTART;VALUE=DATE-TIME:20260511T060000Z
DTEND;VALUE=DATE-TIME:20260511T080000Z
UID:513004443972
DESCRIPTION:JPPS審査委員会
LOCATION:5F
END:VEVENT
BEGIN:VEVENT
SUMMARY:三役会（現・新）
DTSTART;VALUE=DATE-TIME:20260513T033000Z
DTEND;VALUE=DATE-TIME:20260513T044000Z
UID:272192981621
DESCRIPTION:三役会（現・新）
LOCATION:東京會舘
END:VEVENT
BEGIN:VEVENT
SUMMARY:総代会
DTSTART;VALUE=DATE-TIME:20260513T050000Z
DTEND;VALUE=DATE-TIME:20260513T080000Z
UID:128693918020
DESCRIPTION:総代会
LOCATION:東京會舘
END:VEVENT
BEGIN:VEVENT
SUMMARY:環境推進工場新規登録講習会
DTSTART;VALUE=DATE-TIME:20260514T010000Z
DTEND;VALUE=DATE-TIME:20260514T080000Z
UID:226427582208
DESCRIPTION:環境推進工場新規登録講習会
LOCATION:日本印刷会館
END:VEVENT
BEGIN:VEVENT
SUMMARY:三多摩支部総会
DTSTART;VALUE=DATE-TIME:20260516T070000Z
DTEND;VALUE=DATE-TIME:20260516T080000Z
UID:294988327017
DESCRIPTION:三多摩支部総会
LOCATION:ホテル日航立川
END:VEVENT
BEGIN:VEVENT
SUMMARY:文京台東支部総会
DTSTART;VALUE=DATE-TIME:20260518T090000Z
DTEND;VALUE=DATE-TIME:20260518T100000Z
UID:284250824591
DESCRIPTION:文京台東支部総会
LOCATION:東京ドームホテル
END:VEVENT
BEGIN:VEVENT
SUMMARY:価値創造のための中小印刷産業再編PT
DTSTART;VALUE=DATE-TIME:20260519T010000Z
DTEND;VALUE=DATE-TIME:20260519T030000Z
UID:320313865843
DESCRIPTION:価値創造のための中小印刷産業再編PT
LOCATION:5F
END:VEVENT
BEGIN:VEVENT
SUMMARY:城西支部総会
DTSTART;VALUE=DATE-TIME:20260519T090000Z
DTEND;VALUE=DATE-TIME:20260519T100000Z
UID:841737762051
DESCRIPTION:城西支部総会
LOCATION:リーガロイヤルホテル東京
END:VEVENT
BEGIN:VEVENT
SUMMARY:城南支部総会
DTSTART;VALUE=DATE-TIME:20260521T080000Z
DTEND;VALUE=DATE-TIME:20260521T090000Z
UID:160081156533
DESCRIPTION:城南支部総会
LOCATION:白金「八芳園」
END:VEVENT
BEGIN:VEVENT
SUMMARY:城東支部総会
DTSTART;VALUE=DATE-TIME:20260522T090000Z
DTEND;VALUE=DATE-TIME:20260522T100000Z
UID:512151314664
DESCRIPTION:城東支部総会
LOCATION:東武ホテルレバント東京
END:VEVENT
BEGIN:VEVENT
SUMMARY:印刷製作基礎講座
DTSTART;VALUE=DATE-TIME:20260525T003000Z
DTEND;VALUE=DATE-TIME:20260525T080000Z
UID:189913590936
DESCRIPTION:印刷製作基礎講座
LOCATION:日本プリンティングアカデミー
END:VEVENT
BEGIN:VEVENT
SUMMARY:千代田支部総会
DTSTART;VALUE=DATE-TIME:20260525T080000Z
DTEND;VALUE=DATE-TIME:20260525T090000Z
UID:288392445398
DESCRIPTION:千代田支部総会
LOCATION:KKRホテル東京
END:VEVENT
BEGIN:VEVENT
SUMMARY:江北支部総会
DTSTART;VALUE=DATE-TIME:20260525T080000Z
DTEND;VALUE=DATE-TIME:20260525T090000Z
UID:311297187700
DESCRIPTION:江北支部総会
LOCATION:アートホテル日暮里ラングウッド
END:VEVENT
BEGIN:VEVENT
SUMMARY:印刷製作基礎講座
DTSTART;VALUE=DATE-TIME:20260526T040000Z
DTEND;VALUE=DATE-TIME:20260526T080000Z
UID:310304979330
DESCRIPTION:印刷製作基礎講座
LOCATION:日本プリンティングアカデミー
END:VEVENT
END:VCALENDAR
