BEGIN:VCALENDAR
VERSION:2.0
PRODID:-//chikkutakku.com//RDFCal 1.0//EN
X-WR-CALDESC:GoogleカレンダーやiCalendar形式情報を共有シェ
 アしましょう。近所のイベントから全国のイベントま
 で今日のイベント検索やスケジュールを決めるならち
 っくたっく
X-WR-CALNAME:ちっくたっく
X-WR-TIMEZONE:UTC
BEGIN:VEVENT
SUMMARY:けっこう仮面 上
DTSTART;VALUE=DATE:20260420
DTEND;VALUE=DATE:20260421
UID:498907002807
DESCRIPTION:2026-04-21けっこう仮面 上永井豪とダイナミック
 プロ復刊ドットコム
LOCATION:
END:VEVENT
BEGIN:VEVENT
SUMMARY:もし予防歯科の女医が名著の「ビジネス書」を読
 んだら
DTSTART;VALUE=DATE:20260420
DTEND;VALUE=DATE:20260421
UID:211349524585
DESCRIPTION:2026-04-21もし予防歯科の女医が名著の「ビジネ
 ス書」を読んだら村瀬千明サンライズパブリッシング
LOCATION:
END:VEVENT
BEGIN:VEVENT
SUMMARY:[MP3音声&電子書籍版付き] CNNニュース・リスニン
 グ2026[春夏]
DTSTART;VALUE=DATE:20260420
DTEND;VALUE=DATE:20260421
UID:173985792174
DESCRIPTION:2026-04-21[MP3音声&電子書籍版付き] CNNニュース・
 リスニング2026[春夏]CNN English Express編集部朝日出版社
LOCATION:
END:VEVENT
BEGIN:VEVENT
SUMMARY:[音声データ付き]CNNニュース・リスニング 2026[春
 夏]
DTSTART;VALUE=DATE:20260420
DTEND;VALUE=DATE:20260421
UID:339920043945
DESCRIPTION:2026-04-21[音声データ付き]CNNニュース・リスニ
 ング 2026[春夏]CNN English Express編集部朝日出版社
LOCATION:
END:VEVENT
BEGIN:VEVENT
SUMMARY:死んでいる元カノとの旅
DTSTART;VALUE=DATE:20260421
DTEND;VALUE=DATE:20260422
UID:299585877034
DESCRIPTION:2026-04-22死んでいる元カノとの旅ローリー・ム
 ーア/栩木 玲子新潮社
LOCATION:
END:VEVENT
BEGIN:VEVENT
SUMMARY:マインクラフト3分建築レシピ 〜おしゃれ家具・
 動物・ロボット・動く!レッドストーン建築
DTSTART;VALUE=DATE:20260421
DTEND;VALUE=DATE:20260422
UID:938820177010
DESCRIPTION:2026-04-22マインクラフト3分建築レシピ 〜おし
 ゃれ家具・動物・ロボット・動く!レッドストーン建築
 カゲキヨスタンダーズ
LOCATION:
END:VEVENT
BEGIN:VEVENT
SUMMARY:マインクラフト／ザ・ムービー スペシャル・プ
 ライス
DTSTART;VALUE=DATE:20260421
DTEND;VALUE=DATE:20260422
UID:105458312676
DESCRIPTION:2026-04-22マインクラフト／ザ・ムービー スペシ
 ャル・プライスジェイソン・モモア/ジャック・ブラッ
 ク/エマ・マイヤーズ/ダニエル・ブルックス/セバスチ
 ャン・ハンセン/ジェニファー・クーリッジ/マット・ベ
 リー/ジャレッド・ヘス(株)ハピネット・メディアマー
 ケティング
LOCATION:
END:VEVENT
BEGIN:VEVENT
SUMMARY:マインクラフト／ザ・ムービー スペシャル・プ
 ライス【Blu-ray】
DTSTART;VALUE=DATE:20260421
DTEND;VALUE=DATE:20260422
UID:277066499548
DESCRIPTION:2026-04-22マインクラフト／ザ・ムービー スペシ
 ャル・プライス【Blu-ray】ジェイソン・モモア/ジャック
 ・ブラック/エマ・マイヤーズ/ダニエル・ブルックス/
 セバスチャン・ハンセン/ジェニファー・クーリッジ/マ
 ット・ベリー/ジャレッド・ヘス(株)ハピネット・メデ
 ィアマーケティング
LOCATION:
END:VEVENT
BEGIN:VEVENT
SUMMARY:チャックの数奇な人生 イフ・イット・ブリーズ
DTSTART;VALUE=DATE:20260422
DTEND;VALUE=DATE:20260423
UID:138709033211
DESCRIPTION:2026-04-23チャックの数奇な人生 イフ・イット・
 ブリーズスティーヴン・キング/安野 玲/高山 真由美文
 藝春秋
LOCATION:
END:VEVENT
BEGIN:VEVENT
SUMMARY:チャックの数奇な人生　イフ・イット・ブリーズ
DTSTART;VALUE=DATE:20260422
DTEND;VALUE=DATE:20260423
UID:319388686742
DESCRIPTION:2026-04-23チャックの数奇な人生　イフ・イット
 ・ブリーズスティーヴン・キング/安野玲/高山真由美文
 藝春秋
LOCATION:
END:VEVENT
BEGIN:VEVENT
SUMMARY:了巷説百物語
DTSTART;VALUE=DATE:20260423
DTEND;VALUE=DATE:20260424
UID:214795637222
DESCRIPTION:2026-04-24了巷説百物語京極 夏彦KADOKAWA
LOCATION:
END:VEVENT
BEGIN:VEVENT
SUMMARY:絵本百物語
DTSTART;VALUE=DATE:20260423
DTEND;VALUE=DATE:20260424
UID:171645840592
DESCRIPTION:2026-04-24絵本百物語京極 夏彦/竹原 春泉/桃山人
 KADOKAWA
LOCATION:
END:VEVENT
BEGIN:VEVENT
SUMMARY:ヘンゼルとグレーテル
DTSTART;VALUE=DATE:20260423
DTEND;VALUE=DATE:20260424
UID:307526170233
DESCRIPTION:2026-04-24ヘンゼルとグレーテルスティーヴン・
 キング/モーリス・センダック/穂村 弘NHK出版
LOCATION:
END:VEVENT
BEGIN:VEVENT
SUMMARY:須賀のスガスガしくない話
DTSTART;VALUE=DATE:20260423
DTEND;VALUE=DATE:20260424
UID:860877496390
DESCRIPTION:2026-04-24須賀のスガスガしくない話須賀 しのぶ
 集英社
LOCATION:
END:VEVENT
BEGIN:VEVENT
SUMMARY:ゾンビーガン（１）
DTSTART;VALUE=DATE:20260423
DTEND;VALUE=DATE:20260424
UID:922320965153
DESCRIPTION:2026-04-24ゾンビーガン（１）山川直樹/猿渡源太
 小学館
LOCATION:
END:VEVENT
BEGIN:VEVENT
SUMMARY:ゾンビーガン（２）
DTSTART;VALUE=DATE:20260423
DTEND;VALUE=DATE:20260424
UID:903044186796
DESCRIPTION:2026-04-24ゾンビーガン（２）山川直樹/猿渡源太
 小学館
LOCATION:
END:VEVENT
BEGIN:VEVENT
SUMMARY:「巷説百物語」シリーズ【全7冊合本版】
DTSTART;VALUE=DATE:20260423
DTEND;VALUE=DATE:20260424
UID:130584954661
DESCRIPTION:2026-04-24「巷説百物語」シリーズ【全7冊合本版
 】京極夏彦KADOKAWA
LOCATION:
END:VEVENT
BEGIN:VEVENT
SUMMARY:新・小料理のどか屋 人情帖1 再起の灯
DTSTART;VALUE=DATE:20260426
DTEND;VALUE=DATE:20260427
UID:238533503151
DESCRIPTION:2026-04-27新・小料理のどか屋 人情帖1 再起の灯
 倉阪鬼一郎二見書房
LOCATION:
END:VEVENT
BEGIN:VEVENT
SUMMARY:公式！レゴマインクラフト超図鑑
DTSTART;VALUE=DATE:20260426
DTEND;VALUE=DATE:20260427
UID:728976686395
DESCRIPTION:2026-04-27公式！レゴマインクラフト超図鑑エリ
 ザベス・ドーセット/クレイグ・ジェリー/宮垣 明子/多
 田 典子ポプラ社
LOCATION:
END:VEVENT
BEGIN:VEVENT
SUMMARY:怪と幽 vol.022 2026年5月
DTSTART;VALUE=DATE:20260426
DTEND;VALUE=DATE:20260427
UID:175642068495
DESCRIPTION:2026-04-27怪と幽 vol.022 2026年5月京極 夏彦/綿矢 
 りさ/小川 洋子/澤村伊智/乙 一/山白 朝子KADOKAWA
LOCATION:
END:VEVENT
BEGIN:VEVENT
SUMMARY:怪と幽　vol.022　2026年5月
DTSTART;VALUE=DATE:20260426
DTEND;VALUE=DATE:20260427
UID:167384339585
DESCRIPTION:2026-04-27怪と幽　vol.022　2026年5月京極夏彦/綿矢
 りさ/小川洋子/澤村伊智/乙一/山白朝子/荒俣宏/諸星大
 二郎/高橋葉介/押切蓮介/東雅夫/加門七海KADOKAWA
LOCATION:
END:VEVENT
BEGIN:VEVENT
SUMMARY:日本一わかりやすい「デジタル終活・遺品の探し
 方」実践ガイド
DTSTART;VALUE=DATE:20260427
DTEND;VALUE=DATE:20260428
UID:304282341020
DESCRIPTION:2026-04-28日本一わかりやすい「デジタル終活・
 遺品の探し方」実践ガイド末吉謙佑/木村 元成イースト
 ・プレス
LOCATION:
END:VEVENT
BEGIN:VEVENT
SUMMARY:勇者が召喚できません！（2）
DTSTART;VALUE=DATE:20260427
DTEND;VALUE=DATE:20260428
UID:111824306151
DESCRIPTION:2026-04-28勇者が召喚できません！（2）藤井ゆず
 る/春雨ぽんた徳間書店
LOCATION:
END:VEVENT
BEGIN:VEVENT
SUMMARY:生活という名の愛おしい試練
DTSTART;VALUE=DATE:20260427
DTEND;VALUE=DATE:20260428
UID:280941920978
DESCRIPTION:2026-04-28生活という名の愛おしい試練帆坂 悠KAD
 OKAWA
LOCATION:
END:VEVENT
BEGIN:VEVENT
SUMMARY:最恐ホラー　嫌な記憶
DTSTART;VALUE=DATE:20260427
DTEND;VALUE=DATE:20260428
UID:199035737991
DESCRIPTION:2026-04-28最恐ホラー　嫌な記憶貴志祐介/荻堂顕
 講談社
LOCATION:
END:VEVENT
BEGIN:VEVENT
SUMMARY:AMONデビルマン黙示録 2
DTSTART;VALUE=DATE:20260429
DTEND;VALUE=DATE:20260430
UID:109551285229
DESCRIPTION:2026-04-30AMONデビルマン黙示録 2永井 豪/衣谷 遊
 玄光社
LOCATION:
END:VEVENT
BEGIN:VEVENT
SUMMARY:AMONデビルマン黙示録 1
DTSTART;VALUE=DATE:20260429
DTEND;VALUE=DATE:20260430
UID:333465532936
DESCRIPTION:2026-04-30AMONデビルマン黙示録 1永井 豪/衣谷 遊
 玄光社
LOCATION:
END:VEVENT
BEGIN:VEVENT
SUMMARY:AMONデビルマン黙示録 3
DTSTART;VALUE=DATE:20260429
DTEND;VALUE=DATE:20260430
UID:189246776665
DESCRIPTION:2026-04-30AMONデビルマン黙示録 3永井 豪/衣谷 遊
 玄光社
LOCATION:
END:VEVENT
BEGIN:VEVENT
SUMMARY:柳生裸真剣（9）
DTSTART;VALUE=DATE:20260429
DTEND;VALUE=DATE:20260430
UID:309965141790
DESCRIPTION:2026-04-30柳生裸真剣（9）永井豪とダイナミック
 プロ小学館
LOCATION:
END:VEVENT
BEGIN:VEVENT
SUMMARY:最恐ホラー 嫌な記憶
DTSTART;VALUE=DATE:20260429
DTEND;VALUE=DATE:20260430
UID:247305484739
DESCRIPTION:2026-04-30最恐ホラー 嫌な記憶貴志 祐介/荻堂 顕
 講談社
LOCATION:
END:VEVENT
BEGIN:VEVENT
SUMMARY:アンデッド・スクール～半分死んだら無敵になっ
 たので復讐始めます～ 5
DTSTART;VALUE=DATE:20260430
DTEND;VALUE=DATE:20260501
UID:731461967942
DESCRIPTION:2026-05-01アンデッド・スクール～半分死んだら
 無敵になったので復讐始めます～ 5みやあきむつえ/荒
 井チェイサーシーモアコミックス（トレモア）
LOCATION:
END:VEVENT
BEGIN:VEVENT
SUMMARY:ゾンビの王様～世界の終わりに始める復讐計画～
  4
DTSTART;VALUE=DATE:20260430
DTEND;VALUE=DATE:20260501
UID:181269006877
DESCRIPTION:2026-05-01ゾンビの王様～世界の終わりに始める
 復讐計画～ 4けんいちさん太郎/夏川 鳴海シーモアコミ
 ックス（トレモア）
LOCATION:
END:VEVENT
BEGIN:VEVENT
SUMMARY:大川三つ巴　小料理のどか屋 人情帖45
DTSTART;VALUE=DATE:20260430
DTEND;VALUE=DATE:20260501
UID:821955013529
DESCRIPTION:2026-05-01大川三つ巴　小料理のどか屋 人情帖45
 倉阪鬼一郎二見書房
LOCATION:
END:VEVENT
BEGIN:VEVENT
SUMMARY:AI脳クライシス デジタルは人から何を奪うのか
DTSTART;VALUE=DATE:20260510
DTEND;VALUE=DATE:20260511
UID:166340024576
DESCRIPTION:2026-05-11AI脳クライシス デジタルは人から何を
 奪うのか酒井 邦嘉/羽生 善治/ピーター・バラカン/千住
  博/柳田 邦男集英社インターナショナル
LOCATION:
END:VEVENT
BEGIN:VEVENT
SUMMARY:マッチングデッド（全1巻）
DTSTART;VALUE=DATE:20260510
DTEND;VALUE=DATE:20260511
UID:281166430688
DESCRIPTION:2026-05-11マッチングデッド（全1巻）吉沢緑時少
 年画報社
LOCATION:
END:VEVENT
BEGIN:VEVENT
SUMMARY:ゾンビメンタル
DTSTART;VALUE=DATE:20260512
DTEND;VALUE=DATE:20260513
UID:281516553558
DESCRIPTION:2026-05-13ゾンビメンタル大塚 澪東洋経済新報社
LOCATION:
END:VEVENT
BEGIN:VEVENT
SUMMARY:くいなちゃんはゾンビ！ 最強ゾンビちゃんは学
 校に通いたい!?（1）
DTSTART;VALUE=DATE:20260512
DTEND;VALUE=DATE:20260513
UID:442439928348
DESCRIPTION:2026-05-13くいなちゃんはゾンビ！ 最強ゾンビち
 ゃんは学校に通いたい!?（1）平河 ゆうき/からあげたろ
 うKADOKAWA
LOCATION:
END:VEVENT
BEGIN:VEVENT
SUMMARY:直結BP馬券術
DTSTART;VALUE=DATE:20260517
DTEND;VALUE=DATE:20260518
UID:322518619409
DESCRIPTION:2026-05-18直結BP馬券術秀和システム新社
LOCATION:
END:VEVENT
BEGIN:VEVENT
SUMMARY:ゾンビ世界でハーレムをつくろう！（6）
DTSTART;VALUE=DATE:20260519
DTEND;VALUE=DATE:20260520
UID:119444157497
DESCRIPTION:2026-05-20ゾンビ世界でハーレムをつくろう！（6
 ）今井 ユウ講談社
LOCATION:
END:VEVENT
END:VCALENDAR
